BEGIN:VCALENDAR
VERSION:2.0
PRODID:-//Spartanburg Gives - ECPv6.15.20//NONSGML v1.0//EN
CALSCALE:GREGORIAN
METHOD:PUBLISH
X-WR-CALNAME:Spartanburg Gives
X-ORIGINAL-URL:https://spartanburggives.org
X-WR-CALDESC:Events for Spartanburg Gives
REFRESH-INTERVAL;VALUE=DURATION:PT1H
X-Robots-Tag:noindex
X-PUBLISHED-TTL:PT1H
BEGIN:VTIMEZONE
TZID:America/New_York
BEGIN:DAYLIGHT
TZOFFSETFROM:-0500
TZOFFSETTO:-0400
TZNAME:EDT
DTSTART:20230312T070000
END:DAYLIGHT
BEGIN:STANDARD
TZOFFSETFROM:-0400
TZOFFSETTO:-0500
TZNAME:EST
DTSTART:20231105T060000
END:STANDARD
BEGIN:DAYLIGHT
TZOFFSETFROM:-0500
TZOFFSETTO:-0400
TZNAME:EDT
DTSTART:20240310T070000
END:DAYLIGHT
BEGIN:STANDARD
TZOFFSETFROM:-0400
TZOFFSETTO:-0500
TZNAME:EST
DTSTART:20241103T060000
END:STANDARD
BEGIN:DAYLIGHT
TZOFFSETFROM:-0500
TZOFFSETTO:-0400
TZNAME:EDT
DTSTART:20250309T070000
END:DAYLIGHT
BEGIN:STANDARD
TZOFFSETFROM:-0400
TZOFFSETTO:-0500
TZNAME:EST
DTSTART:20251102T060000
END:STANDARD
END:VTIMEZONE
BEGIN:VEVENT
DTSTART;TZID=America/New_York:20241203T173000
DTEND;TZID=America/New_York:20241203T200000
DTSTAMP:20260420T090735
CREATED:20241125T184715Z
LAST-MODIFIED:20241125T184936Z
UID:14034-1733247000-1733256000@spartanburggives.org
SUMMARY:Brew Good with Spartanburg Gives for Giving Tuesday
DESCRIPTION:Join Spartanburg Gives on December 3 as we Brew Good for Giving Tuesday during Dickens of a Christmas! Support local nonprofits at FR8Yard with free brews and live tunes from Columbia-based Funk Band\, MMS Trio. \nThis event is FREE to the community and family friendly. Participants will be given a free drink ticket for visiting 5 booths and taking action to support our wonderful nonprofit community and their Giving Tuesday goals. \nLearn more about these organizations at spartanburggives.org. \n\nA Light Unto My Path\nHelp for Our Elderly\nHope Center for Children\nHub City Animal Project\nNAMI\nNorthside Development Group\nProject R.E.S.T.\nSouth Carolina School for the Deaf & Blind\nSpartanburg Science Center\nSpeaking Down Barriers\nSt. Luke’s Free Medical Clinic\nUnited Way of the Piedmont
URL:https://spartanburggives.org/event/brew-good-with-spartanburg-gives-for-giving-tuesday/
LOCATION:Fr8yard\, 125 E Main St\, Spartanburg\, 29306\, United States
ATTACH;FMTTYPE=image/png:https://spartanburggives.org/wp-content/uploads/2024/11/NOV-28-530PM-800PM-2.png
ORGANIZER;CN="Spartanburg Gives":MAILTO:info@spartanburggives.org
END:VEVENT
BEGIN:VEVENT
DTSTART;TZID=America/New_York:20241207T070000
DTEND;TZID=America/New_York:20241207T150000
DTSTAMP:20260420T090735
CREATED:20241126T000624Z
LAST-MODIFIED:20241126T000826Z
UID:14069-1733554800-1733583600@spartanburggives.org
SUMMARY:The Shop 40th Annual Toy Run
DESCRIPTION:With the rumble of 100–300 motorcycles\, The Toy Run is one of South Carolina’s largest motorcycle rides\, raising money and toys for children affected by domestic violence. Established in 1974\, The Shop is a social club passionate about Harley-Davidsons and supporting the local community. \nThe club’s 40th Annual Toy Run Event is set for December 7\, 2024. Last year\, the group raised an impressive $10\,000 and filled a box truck with toys and bikes. All proceeds and toy donations benefit the local Domestic Violence and Sexual Assault Agency\, Project R.E.S.T. \nThe holiday season can be especially challenging for families affected by domestic violence. Financial struggles and heightened stress during this time can worsen tensions\, leading to increased violence. Many families escaping abuse may not have the means to provide their children with a joyful holiday. The Shop works tirelessly to ease this burden\, allowing survivors to focus on creating wonderful holiday memories with their children.
URL:https://spartanburggives.org/event/14069/
LOCATION:The Shop Clubhouse\, 521 New Cut Rd.\, Una\, SC
ATTACH;FMTTYPE=application/pdf:https://spartanburggives.org/wp-content/uploads/2024/11/ProjectREST_ToyRun2024-1.pdf
END:VEVENT
BEGIN:VEVENT
DTSTART;TZID=America/New_York:20241209T140000
DTEND;TZID=America/New_York:20241209T140000
DTSTAMP:20260420T090735
CREATED:20241126T164216Z
LAST-MODIFIED:20241126T165600Z
UID:14076-1733752800-1733752800@spartanburggives.org
SUMMARY:Summer Camp Sessions Released
DESCRIPTION:Summer Camp for ALL girls K-12
URL:https://spartanburggives.org/event/summer-camp-sessions-released/
LOCATION:SC
ATTACH;FMTTYPE=image/jpeg:https://spartanburggives.org/wp-content/uploads/2024/11/daisiesondeck-13-1.jpg
END:VEVENT
BEGIN:VEVENT
DTSTART;TZID=America/New_York:20241210T183000
DTEND;TZID=America/New_York:20241210T203000
DTSTAMP:20260420T090735
CREATED:20241125T235116Z
LAST-MODIFIED:20241125T235318Z
UID:14053-1733855400-1733862600@spartanburggives.org
SUMMARY:2024 Spartanburg Christmas Parade
DESCRIPTION:Come enjoy the magic of Christmas with your Spartanburg community! The streets will be filled with twinkling lights & cheerful floats bringing you and your family some Christmas joy!!\nThis event is a time honored tradition for Spartanburg residents to enjoy while the Spartanburg Jaycees work in partnership behind the scenes with sponsors & participants to give back to the community. This parade allows for some local kids to take part in a Christmas shopping spree\, a community Christmas Luncheon\, and more. Reach out to the Spartanburg Jaycees for more details or how to volunteer!! (email sc_spartanburg@jciusa.org
URL:https://spartanburggives.org/event/2024-spartanburg-christmas-parade/
LOCATION:Downtown Spartanburg\, Spartanburg
ATTACH;FMTTYPE=image/jpeg:https://spartanburggives.org/wp-content/uploads/2024/11/463390664_955654133265081_9024063117672332942_n.jpg
ORGANIZER;CN="JCI Spartanburg":MAILTO:spartanburgjaycees@gmail.com
END:VEVENT
BEGIN:VEVENT
DTSTART;TZID=America/New_York:20241212T173000
DTEND;TZID=America/New_York:20241212T193000
DTSTAMP:20260420T090735
CREATED:20241126T190353Z
LAST-MODIFIED:20241126T190353Z
UID:14088-1734024600-1734031800@spartanburggives.org
SUMMARY:African American Leadership Society In the Mix Social
DESCRIPTION:Do you want to learn more about the United Way of the Piedmonts African American Leadership Society? Are you a current member wanting to engage more with the group? If you answered yes to either of these questions\, then we have the event for you! The event will include food\, beverages\, a special message from the Chair of AALS\, Marchele Garrett. \nAttendees must register by December 9th.
URL:https://spartanburggives.org/event/african-american-leadership-society-in-the-mix-social/
LOCATION:Denny’s Tower (top floor/atrium)\, 203 E Main St\, Spartanburg\, SC\, 29319\, United States
ATTACH;FMTTYPE=image/jpeg:https://spartanburggives.org/wp-content/uploads/2024/11/https___cdn.evbuc_.com_images_891430133_2164443936043_1_original.jpg
ORGANIZER;CN="United Way of the Piedmont":MAILTO:aharwell@uwpiedmont.org
END:VEVENT
BEGIN:VEVENT
DTSTART;TZID=America/New_York:20241213T163000
DTEND;TZID=America/New_York:20241213T180000
DTSTAMP:20260420T090735
CREATED:20241125T235731Z
LAST-MODIFIED:20241125T235731Z
UID:14062-1734107400-1734112800@spartanburggives.org
SUMMARY:THE WIZARD OF OZ: YOUTH EDITION | Spartanburg Youth Theatre
DESCRIPTION:Adults: $20\nYouth (18 & younger): $15\n*Patrons of all ages\, including newborns\, are required to purchase a ticket \nJoin Dorothy and her loyal companion Toto as they “follow the Yellow Brick Road” through the Land of Oz\, determined to reach the Emerald City\, where the great and powerful Wizard of Oz will help them get home. Along the way\, Dorothy encounters witches (both good and bad)\, Munchkins\, talking trees and winged monkeys. But most importantly\, she befriends a Scarecrow with no brain\, a Tin Man with no heart\, and a Lion with no “nerve.” Their journey to happiness is a glowing testament to friendship\, understanding and hope.
URL:https://spartanburggives.org/event/the-wizard-of-oz-youth-edition-spartanburg-youth-theatre/
LOCATION:Chapman Cultural Center\, 200 East Saint John street\, Spartanburg\, SC\, 29306\, United States
ATTACH;FMTTYPE=image/png:https://spartanburggives.org/wp-content/uploads/2024/11/2__Wizard_of_Oz_ALT.png
END:VEVENT
BEGIN:VEVENT
DTSTART;TZID=America/New_York:20241213T190000
DTEND;TZID=America/New_York:20241215T150000
DTSTAMP:20260420T090735
CREATED:20241125T235456Z
LAST-MODIFIED:20241125T235523Z
UID:14059-1734116400-1734274800@spartanburggives.org
SUMMARY:The Nutcracker
DESCRIPTION:Celebrate the joy and excitement of Clara’s adventures with her Nutcracker Prince. For 34 years\, Christmas begins with the tradition of Ballet Spartanburg’s The Nutcracker. New costumes\, our expanded Nutcracker Market\, and Tchaikovsky’s iconic score played by the Spartanburg Philharmonic will fill you with holiday cheer!
URL:https://spartanburggives.org/event/the-nutcracker-3/
LOCATION:Twichell Auditorium
ATTACH;FMTTYPE=image/jpeg:https://spartanburggives.org/wp-content/uploads/2024/11/Converse-Tchaikovskys-Nutcracker-2024.jpg
END:VEVENT
BEGIN:VEVENT
DTSTART;TZID=America/New_York:20241214T090000
DTEND;TZID=America/New_York:20241214T163000
DTSTAMP:20260420T090735
CREATED:20241126T165146Z
LAST-MODIFIED:20241126T165146Z
UID:14079-1734166800-1734193800@spartanburggives.org
SUMMARY:Winter Wonderland
DESCRIPTION:TCMU’s Winter Fundraising Event! Below is what is posted on our website: \nThe North Pole is coming to Greenville and Spartanburg on Saturday\, December 14th! Step into Winter Wonderland to experience festive fun\, holiday cheer\, and magical surprises for the whole family. Snap a photo with Santa\, make reindeer food\, explore a gingerbread village* and more!\n*Activities vary by location
URL:https://spartanburggives.org/event/winter-wonderland/
LOCATION:TCMU-SPG\, 130 Magnolia St.\, Spartanburg\, South Carolina\, 29306
ATTACH;FMTTYPE=image/png:https://spartanburggives.org/wp-content/uploads/2024/11/Screenshot-2024-11-26-115054.png
ORGANIZER;CN="The Children's Museum of the Upstate-Spartanburg":MAILTO:spartanburg@tcmupstate.org
END:VEVENT
BEGIN:VEVENT
DTSTART;TZID=America/New_York:20241219T170000
DTEND;TZID=America/New_York:20241219T200000
DTSTAMP:20260420T090735
CREATED:20241126T190921Z
LAST-MODIFIED:20241126T190921Z
UID:14091-1734627600-1734638400@spartanburggives.org
SUMMARY:Christmas Art Market
DESCRIPTION:Come and join the SAM family and the Artists’ Guild of Spartanburg as part of the Christmas Market on December 19th\, 2024 from 5-8pm during Art Walk!  SAM is seeking vendors that will be spaced throughout the interior of the museum.  Please contact them if you are interested in participating!  Spots are extremely limited.
URL:https://spartanburggives.org/event/christmas-art-market/
LOCATION:Spartanburg Art Museum\, 220 E. St. John St\, Spartanburg\, SC\, 29302
ATTACH;FMTTYPE=image/jpeg:https://spartanburggives.org/wp-content/uploads/2024/11/unnamed-6.jpg
END:VEVENT
BEGIN:VEVENT
DTSTART;TZID=America/New_York:20241220T103000
DTEND;TZID=America/New_York:20241220T120000
DTSTAMP:20260420T090735
CREATED:20241126T191132Z
LAST-MODIFIED:20241126T191132Z
UID:14094-1734690600-1734696000@spartanburggives.org
SUMMARY:Polar Express Pajama Party at the Library
DESCRIPTION:A family movie event\, to ring in the Holiday with comfort\, snacks\, laughter and quality time with our community families.
URL:https://spartanburggives.org/event/polar-express-pajama-party-at-the-library/
LOCATION:Chesnee Library\, 100 State Rd S-42-1337\, Chesnee\, SC\, 29323
ATTACH;FMTTYPE=image/png:https://spartanburggives.org/wp-content/uploads/2024/11/Screenshot-2024-11-26-132114.png
END:VEVENT
BEGIN:VEVENT
DTSTART;TZID=America/New_York:20241221T110000
DTEND;TZID=America/New_York:20241221T150000
DTSTAMP:20260420T090735
CREATED:20241125T235942Z
LAST-MODIFIED:20241126T182900Z
UID:14065-1734778800-1734793200@spartanburggives.org
SUMMARY:Free Family Day with Spartanburg Science Center
DESCRIPTION:Join Spartanburg Science Center for Free Family Day! Bring your family and enjoy FREE admission to the Science Center for the day!
URL:https://spartanburggives.org/event/free-family-day-with-spartanburg-science-center/
LOCATION:Spartanburg Science Center\, 200 E. Saint John St.\, Spartanburg\, SC\, 29306\, United States
ATTACH;FMTTYPE=image/png:https://spartanburggives.org/wp-content/uploads/2024/11/Free-Family-Day-1.png
END:VEVENT
END:VCALENDAR