BEGIN:VCALENDAR
VERSION:2.0
PRODID:-//Spartanburg Gives - ECPv6.15.20//NONSGML v1.0//EN
CALSCALE:GREGORIAN
METHOD:PUBLISH
X-WR-CALNAME:Spartanburg Gives
X-ORIGINAL-URL:https://spartanburggives.org
X-WR-CALDESC:Events for Spartanburg Gives
REFRESH-INTERVAL;VALUE=DURATION:PT1H
X-Robots-Tag:noindex
X-PUBLISHED-TTL:PT1H
BEGIN:VTIMEZONE
TZID:America/New_York
BEGIN:DAYLIGHT
TZOFFSETFROM:-0500
TZOFFSETTO:-0400
TZNAME:EDT
DTSTART:20230312T070000
END:DAYLIGHT
BEGIN:STANDARD
TZOFFSETFROM:-0400
TZOFFSETTO:-0500
TZNAME:EST
DTSTART:20231105T060000
END:STANDARD
BEGIN:DAYLIGHT
TZOFFSETFROM:-0500
TZOFFSETTO:-0400
TZNAME:EDT
DTSTART:20240310T070000
END:DAYLIGHT
BEGIN:STANDARD
TZOFFSETFROM:-0400
TZOFFSETTO:-0500
TZNAME:EST
DTSTART:20241103T060000
END:STANDARD
BEGIN:DAYLIGHT
TZOFFSETFROM:-0500
TZOFFSETTO:-0400
TZNAME:EDT
DTSTART:20250309T070000
END:DAYLIGHT
BEGIN:STANDARD
TZOFFSETFROM:-0400
TZOFFSETTO:-0500
TZNAME:EST
DTSTART:20251102T060000
END:STANDARD
END:VTIMEZONE
BEGIN:VEVENT
DTSTART;TZID=America/New_York:20241101T200000
DTEND;TZID=America/New_York:20241110T223000
DTSTAMP:20260420T072344
CREATED:20241104T233323Z
LAST-MODIFIED:20241104T233323Z
UID:13916-1730491200-1731277800@spartanburggives.org
SUMMARY:Agatha Christie’s Murder on the Orient Express
DESCRIPTION:Just after midnight\, a snowdrift stops the Orient Express in its tracks. The luxurious train is surprisingly full for the time of the year\, but by morning it is one passenger fewer. An American tycoon lies dead in his compartment\, stabbed eight times\, his door locked from the inside. Isolated and with a killer in their midst\, the passengers rely on detective Hercule Poirot to identify the murderer – in case he or she decides to strike again. \n 
URL:https://spartanburggives.org/event/agatha-christies-murder-on-the-orient-express/
LOCATION:Spartanburg Little Theatre\, 200 E. St. John Street\, Spartanburg\, SC\, 29306
ATTACH;FMTTYPE=image/jpeg:https://spartanburggives.org/wp-content/uploads/2024/11/unnamed.jpg
END:VEVENT
BEGIN:VEVENT
DTSTART;TZID=America/New_York:20241102T083000
DTEND;TZID=America/New_York:20241102T113000
DTSTAMP:20260420T072344
CREATED:20241015T195139Z
LAST-MODIFIED:20241015T195139Z
UID:13908-1730536200-1730547000@spartanburggives.org
SUMMARY:Learn to Home Brew day with Spartanburg Science Center
DESCRIPTION:Spartanburg Science Center has been brewing up something special! They have partnered with Rockers Brewing Co. and the Spartanburg Brew Club to bring the community this event!\n\n\n\nLearn to Home Brew day is supported by the American Homebrewers Association. Thanks to their generous contributions\, there is no cost to participants. However\, as space is limited to twenty participants\, the center respectfully asks that registrants make every effort to honor their commitment and plan to stay for the entire 8:30 AM – 11:30 AM session.\n\n\nRegistration is required\, and only registered participants will be allowed to take part. All participants must be 21 years of age or older and will be asked to present verification of age upon entering the event.\n\n\nIn addition to learning the basics of homebrewing beer\, participants will have the opportunity to actively engage in the brewing process and will walk away with all the knowledge they need to brew their own beer at home!\n\n\nREGISTER FOR FREE: https://www.spartanburgsciencecenter.org/events/
URL:https://spartanburggives.org/event/learn-to-home-brew-day-with-spartanburg-science-center/
LOCATION:Rockers Brewing Co\, 226-A W Main St\, Spartanburg\, SC\, 29306\, United States
ATTACH;FMTTYPE=image/jpeg:https://spartanburggives.org/wp-content/uploads/2024/10/462140715_943643747781750_6026272355160802083_n-1.jpg
END:VEVENT
BEGIN:VEVENT
DTSTART;TZID=America/New_York:20241104T080000
DTEND;TZID=America/New_York:20241104T170000
DTSTAMP:20260420T072344
CREATED:20241104T233543Z
LAST-MODIFIED:20241104T233543Z
UID:13919-1730707200-1730739600@spartanburggives.org
SUMMARY:Bacon and Barrel
DESCRIPTION:Buy your Bacon & Barrel tickets now and join a night benefiting St. Luke’s Free Medical Clinic! 🥓🥃 Enjoy great food\, drinks\, and a great cause. Don’t miss out—secure your spot today! \n 
URL:https://spartanburggives.org/event/bacon-and-barrel/
LOCATION:Drayton Mills\, 1800 Drayton Road\, Spartanburg\, SC\, 29307\, United States
ATTACH;FMTTYPE=image/jpeg:https://spartanburggives.org/wp-content/uploads/2024/11/unnamed-1.jpg
ORGANIZER;CN="St. Luke's Free Medical Clinic":MAILTO:eevans@slfmc.org
END:VEVENT
BEGIN:VEVENT
DTSTART;TZID=America/New_York:20241114T173000
DTEND;TZID=America/New_York:20241114T200000
DTSTAMP:20260420T072344
CREATED:20241104T234928Z
LAST-MODIFIED:20241104T234928Z
UID:13937-1731605400-1731614400@spartanburggives.org
SUMMARY:SC School for the Deaf and Blind’s Art Show November 14th
DESCRIPTION:From time to time\, the SC School for the Deaf and the Blind (SCSDB) Foundation hosts a student art show & auction for their friends and donors. This year\, the Art Show & Auction will be on November 14\, 2024 from 5:30-8:00 PM in Walker Hall on the SCSDB campus. You will not only see beautiful student art\, ceramics\, note cards\, candles\, pottery and jewelry but you can also purchase these items. A portion of the proceeds will go back to the artists\, a portion into the Fine Arts Program at SCSDB to purchase supplies for more art work\, and a portion to the Foundation to continue our support of SCSDB. \n 
URL:https://spartanburggives.org/event/sc-school-for-the-deaf-and-blinds-art-show-november-14th/
LOCATION:South Carolina School for the Deaf and the Blind\, 355 Cedar Springs Rd\, Spartanburg\, SC\, 29302
ATTACH;FMTTYPE=image/png:https://spartanburggives.org/wp-content/uploads/2024/11/unnamed-1.png
END:VEVENT
BEGIN:VEVENT
DTSTART;TZID=America/New_York:20241114T180000
DTEND;TZID=America/New_York:20241114T210000
DTSTAMP:20260420T072344
CREATED:20240926T173742Z
LAST-MODIFIED:20241011T184344Z
UID:13865-1731607200-1731618000@spartanburggives.org
SUMMARY:Arts & Blues
DESCRIPTION:THIS EVENT HAS BEEN POSTPONED DUE TO HURRICANE HELENE. NEW DATES TO BE ANNOUNCED. \nAn evening of great food\, music and silent auction to benefit NAMI Spartanburg.
URL:https://spartanburggives.org/event/arts-blues-2/
LOCATION:SC
ATTACH;FMTTYPE=image/png:https://spartanburggives.org/wp-content/uploads/2024/09/Screenshot-2024-09-25-005902.png
ORGANIZER;CN="NAMI Spartanburg":MAILTO:office@namispartanburgsc.org
END:VEVENT
BEGIN:VEVENT
DTSTART;TZID=America/New_York:20241115T173000
DTEND;TZID=America/New_York:20241115T193000
DTSTAMP:20260420T072344
CREATED:20241104T234415Z
LAST-MODIFIED:20241104T234415Z
UID:13931-1731691800-1731699000@spartanburggives.org
SUMMARY:Jazz Night: Jonathan Scales Fourchestra
DESCRIPTION:Jonathan Scales Fourchestra defies description\, blending jazz\, classical\, and progressive rock with Latin rhythms and funk. With electric bass\, drums\, and steel pans\, they create captivating soundscapes\, mesmerizing audiences worldwide. Evolving from a fluid lineup to a tight-knit trio\, they’re now fully embracing their identity as a band\, with Jonathan composing specifically for the group. \n 
URL:https://spartanburggives.org/event/jazz-night-jonathan-scales-fourchestra/
LOCATION:Chapman Cultural Center\, 200 East Saint John street\, Spartanburg\, SC\, 29306\, United States
ATTACH;FMTTYPE=image/jpeg:https://spartanburggives.org/wp-content/uploads/2024/11/unnamed-4.jpg
END:VEVENT
BEGIN:VEVENT
DTSTART;TZID=America/New_York:20241115T183000
DTEND;TZID=America/New_York:20241115T210000
DTSTAMP:20260420T072344
CREATED:20240926T180409Z
LAST-MODIFIED:20240926T180442Z
UID:13889-1731695400-1731704400@spartanburggives.org
SUMMARY:16th Annual Carolina-Clemson Pep Rally
DESCRIPTION:Big Brothers Big Sisters of the Upstate will host the 16th Annual Carolina-Clemson Pep Rally\, a tailgating-themed event centered on the state rivalry between the University of South Carolina Gamecocks and the Clemson University Tigers. BBBS Upstate will use all funds raised to create and support meaningful one-to-one mentoring relationships that defend and ignite the promise\, power\, and potential of underserved children and youth in Upstate South Carolina.
URL:https://spartanburggives.org/event/16th-annual-carolina-clemson-pep-rally/
LOCATION:Embassy Suites by Hilton Greenville Golf Resort and Conference Center\, 670 Verdae Blvd\, Greenville\, SC\, 29607
ATTACH;FMTTYPE=image/png:https://spartanburggives.org/wp-content/uploads/2024/09/ykF5qWjNGQhvlO8fgnMy73dN2iBDCE4zp911DwoF.png
END:VEVENT
BEGIN:VEVENT
DTSTART;TZID=America/New_York:20241117T150000
DTEND;TZID=America/New_York:20241117T150000
DTSTAMP:20260420T072344
CREATED:20241104T234611Z
LAST-MODIFIED:20241104T234611Z
UID:13934-1731855600-1731855600@spartanburggives.org
SUMMARY:Land of Sweets\, A Nutcracker Party
DESCRIPTION:It is time for Ballet Spartanburg’s kickoff to The Nutcracker! The Land of Sweets\, A Nutcracker Party. Join them for their annual Land of Sweets party! They try to “Sprinkle Just a Little MORE Magic” to the event each year! Attendees will enjoy dancing\, face painting\, pictures with their favorite Nutcracker characters\, goodies\, and more! A few changes this year so please note. Due to limited space and the ability to moves. A $50 ticket includes one parent. Please note that an additional ticket at the $40 for a child is for a child only. No additional parents. Purchasing a table allows 5 adults to attend PLUS 10 children to attend. Children are seated and parents stand and help navigate to the activities.
URL:https://spartanburggives.org/event/land-of-sweets-a-nutcracker-party-2/
LOCATION:Chapman Cultural Center\, 200 East Saint John street\, Spartanburg\, SC\, 29306\, United States
ATTACH;FMTTYPE=image/jpeg:https://spartanburggives.org/wp-content/uploads/2024/11/unnamed-5-scaled.jpg
END:VEVENT
BEGIN:VEVENT
DTSTART;TZID=America/New_York:20241117T180000
DTEND;TZID=America/New_York:20241117T210000
DTSTAMP:20260420T072344
CREATED:20241104T233722Z
LAST-MODIFIED:20241104T233722Z
UID:13922-1731866400-1731877200@spartanburggives.org
SUMMARY:A Light Unto My Path Homes
DESCRIPTION:Save the date for A Light Unto My Path Homes’ annual fundraiser! Help provide a safe haven where women can focus on their recovery from alcoholism\, drug addiction and abusive lifestyles. Learn more about A Light Unto My Path Homes at their website. \n 
URL:https://spartanburggives.org/event/a-light-unto-my-path-homes/
LOCATION:SC
ATTACH;FMTTYPE=image/png:https://spartanburggives.org/wp-content/uploads/2024/11/unnamed.png
END:VEVENT
BEGIN:VEVENT
DTSTART;TZID=America/New_York:20241128T073000
DTEND;TZID=America/New_York:20241128T100000
DTSTAMP:20260420T072344
CREATED:20241104T233845Z
LAST-MODIFIED:20241104T233845Z
UID:13925-1732779000-1732788000@spartanburggives.org
SUMMARY:20th Annual United Community Bank Turkey Day 8K
DESCRIPTION:Join PAL at this community run/walk starts downtown at the Love Where You Live Mural\, crosses into Duncan Park and enters historic Hampton Heights before finishing back at the downtown mural. \n 
URL:https://spartanburggives.org/event/20th-annual-united-community-bank-turkey-day-8k/
LOCATION:Love Where You Live Mural Broad Street Spartanburg\, Spartanburg\, SC\, 29306\, United States
ATTACH;FMTTYPE=image/jpeg:https://spartanburggives.org/wp-content/uploads/2024/11/unnamed-2.jpg
END:VEVENT
END:VCALENDAR