BEGIN:VCALENDAR
VERSION:2.0
PRODID:-//Spartanburg Gives - ECPv6.15.20//NONSGML v1.0//EN
CALSCALE:GREGORIAN
METHOD:PUBLISH
X-WR-CALNAME:Spartanburg Gives
X-ORIGINAL-URL:https://spartanburggives.org
X-WR-CALDESC:Events for Spartanburg Gives
REFRESH-INTERVAL;VALUE=DURATION:PT1H
X-Robots-Tag:noindex
X-PUBLISHED-TTL:PT1H
BEGIN:VTIMEZONE
TZID:America/New_York
BEGIN:DAYLIGHT
TZOFFSETFROM:-0500
TZOFFSETTO:-0400
TZNAME:EDT
DTSTART:20230312T070000
END:DAYLIGHT
BEGIN:STANDARD
TZOFFSETFROM:-0400
TZOFFSETTO:-0500
TZNAME:EST
DTSTART:20231105T060000
END:STANDARD
BEGIN:DAYLIGHT
TZOFFSETFROM:-0500
TZOFFSETTO:-0400
TZNAME:EDT
DTSTART:20240310T070000
END:DAYLIGHT
BEGIN:STANDARD
TZOFFSETFROM:-0400
TZOFFSETTO:-0500
TZNAME:EST
DTSTART:20241103T060000
END:STANDARD
BEGIN:DAYLIGHT
TZOFFSETFROM:-0500
TZOFFSETTO:-0400
TZNAME:EDT
DTSTART:20250309T070000
END:DAYLIGHT
BEGIN:STANDARD
TZOFFSETFROM:-0400
TZOFFSETTO:-0500
TZNAME:EST
DTSTART:20251102T060000
END:STANDARD
END:VTIMEZONE
BEGIN:VEVENT
DTSTART;VALUE=DATE:20240603
DTEND;VALUE=DATE:20240803
DTSTAMP:20260420T035956
CREATED:20240611T055631Z
LAST-MODIFIED:20240611T055631Z
UID:13649-1717372800-1722643199@spartanburggives.org
SUMMARY:Spartanburg Science Center Summer Camps
DESCRIPTION:Whether it’s dinosaurs\, conservation\, forensics\, marine life\, or help navigating raising a middle schooler\, the science center is sure to have a summer camp for you. \nIf you haven’t yet\, it’s still not too late to register!
URL:https://spartanburggives.org/event/spartanburg-science-center-summer-camps/
LOCATION:Spartanburg Science Center\, 200 E. Saint John St.\, Spartanburg\, SC\, 29306\, United States
ATTACH;FMTTYPE=image/png:https://spartanburggives.org/wp-content/uploads/2024/06/a0fa9f2b-4263-b1e9-2fb9-ca8a037246a7.png
END:VEVENT
BEGIN:VEVENT
DTSTART;VALUE=DATE:20240603
DTEND;VALUE=DATE:20240803
DTSTAMP:20260420T035956
CREATED:20240611T055913Z
LAST-MODIFIED:20240611T055913Z
UID:13652-1717372800-1722643199@spartanburggives.org
SUMMARY:Spartanburg Theatre Camps
DESCRIPTION:Whether you are an aspiring performer or designer or just want to build confidence and make new friends\, the Spartanburg Youth Theatre is the place to be! Classes are filled on a first-come\, first-served basis. Please remember to register early\, as many of their classes (K4 – 12th grade) fill up quickly.
URL:https://spartanburggives.org/event/spartanburg-theatre-camps/
LOCATION:Spartanburg Little Theatre\, 200 E. St. John Street\, Spartanburg\, SC\, 29306
ATTACH;FMTTYPE=image/jpeg:https://spartanburggives.org/wp-content/uploads/2024/06/d0febb9b-614c-5229-9e26-847ecde19b4b.jpg
END:VEVENT
BEGIN:VEVENT
DTSTART;TZID=America/New_York:20240730T100000
DTEND;TZID=America/New_York:20240803T170000
DTSTAMP:20260420T035956
CREATED:20240802T230707Z
LAST-MODIFIED:20240802T230707Z
UID:13745-1722333600-1722704400@spartanburggives.org
SUMMARY:Teacher Book Sale hosted by the Friends of the Spartanburg County Public Libraries
DESCRIPTION:Calling all teachers! Don’t miss the exclusive Teacher Book Sale hosted by the Friends of the Spartanburg County Public Libraries at Pages On Pine. Enjoy an incredible 50% discount on all books as a token of appreciation for your invaluable contribution to education
URL:https://spartanburggives.org/event/teacher-book-sale-hosted-by-the-friends-of-the-spartanburg-county-public-libraries/
LOCATION:Pages on Pine Book Store\, 2355 S Pine Street\, Spartanburg\, SC
ATTACH;FMTTYPE=image/jpeg:https://spartanburggives.org/wp-content/uploads/2024/08/2f88bebf-452b-d8bd-edec-719052f669a3.jpg
END:VEVENT
BEGIN:VEVENT
DTSTART;TZID=America/New_York:20240802T170000
DTEND;TZID=America/New_York:20240802T190000
DTSTAMP:20260420T035956
CREATED:20240802T230847Z
LAST-MODIFIED:20240802T230847Z
UID:13749-1722618000-1722625200@spartanburggives.org
SUMMARY:Countdown to Kindergarten
DESCRIPTION:This FREE community event will provide families with rising 3K\, 4K and Kindergarteners with the opportunity to connect with community partners focused on student success and childhood development. While the event is free\, we do ask you to please RSVP so we can plan accordingly. \nPlus\, TCMU-Spartanburg will host a variety of activities–from learning how to use a lunch tray to mock classrooms–geared at preparing young learners for their first school experience!
URL:https://spartanburggives.org/event/countdown-to-kindergarten-2/
LOCATION:The Children’s Museum of the Upstate- Spartanburg\, 130 Magnolia St\, Spartanbrg\, SC\, 29306\, United States
ATTACH;FMTTYPE=image/png:https://spartanburggives.org/wp-content/uploads/2024/08/6d480d96-bfd0-c58b-a129-bc7a2b585dd6.png
ORGANIZER;CN="The Children's Museum of the Upstate-Spartanburg":MAILTO:spartanburg@tcmupstate.org
END:VEVENT
BEGIN:VEVENT
DTSTART;TZID=America/New_York:20240817T083000
DTEND;TZID=America/New_York:20240817T123000
DTSTAMP:20260420T035956
CREATED:20240802T230420Z
LAST-MODIFIED:20240802T230420Z
UID:13741-1723883400-1723897800@spartanburggives.org
SUMMARY:VCOM’s VIVA! Color Run 2024
DESCRIPTION:Come join St. Luke’s Free Medical Clinic for the most vibrant and fun-filled event of the year – the VIVA! Color Run 2024! Get ready to run\, walk\, or dance your way through a rainbow of colors at the beautiful VCOM-Carolinas location. This in-person event is perfect for all ages and fitness levels. Whether you’re a seasoned runner or just looking for a good time\, this event is for you! Don’t miss out on the chance to experience the magic of the Color Run – sign up now!
URL:https://spartanburggives.org/event/vcoms-viva-color-run-2024/
LOCATION:VCOM-Carolinas\, 350 Howard St\, Spartanburg\, 29303
ATTACH;FMTTYPE=image/png:https://spartanburggives.org/wp-content/uploads/2024/08/1e20b761-d9b4-cc2f-b36f-32f411f1598c.png
END:VEVENT
BEGIN:VEVENT
DTSTART;TZID=America/New_York:20240817T083000
DTEND;TZID=America/New_York:20240817T150000
DTSTAMP:20260420T035956
CREATED:20240802T231318Z
LAST-MODIFIED:20240802T231318Z
UID:13752-1723883400-1723906800@spartanburggives.org
SUMMARY:Pickleball Tournament
DESCRIPTION:Don’t miss this fantastic Pickleball tournament to benefit Help for Our Elderly! Enjoy food trucks (Boonjugs bar-b-que)\, and an open pool to cool off afterwards. Lots of fun and giveaways! Sign up today spots are limited! They are also looking for sponsors! \n 
URL:https://spartanburggives.org/event/pickleball-tournament/
LOCATION:Spartanburg Athletic Club\, 2420 Andrews Rd\, Spartanburg\, SC\, 29302\, United States
ATTACH;FMTTYPE=image/jpeg:https://spartanburggives.org/wp-content/uploads/2024/08/d4af9fca-756d-1c8c-40f8-6d5563140b61.jpg
ORGANIZER;CN="Help for Our Elderly":MAILTO:helpforourelderlyinc@aol.com
END:VEVENT
BEGIN:VEVENT
DTSTART;TZID=America/New_York:20240817T150000
DTEND;TZID=America/New_York:20240817T183000
DTSTAMP:20260420T035956
CREATED:20240802T231606Z
LAST-MODIFIED:20240802T231606Z
UID:13757-1723906800-1723919400@spartanburggives.org
SUMMARY:Rescue Brew Reveal Party
DESCRIPTION:Head to Rockers Brewing Co. for a fun-filled Pet Fair & Fundraiser benefiting the Hub City Animal Project! There will be live music\, pet-related vendors\, spent-grain dog treats\, special edition Hub City Animal Project beer labels\, a new menu & cocktail specials. For every pint sold\, Rockers will be donating $1 to the Hub City Animal Project! \n 
URL:https://spartanburggives.org/event/rescue-brew-reveal-party/
LOCATION:RJ Rockers\, 226-A W Main Street\, Spartanburg\, SC
ATTACH;FMTTYPE=image/jpeg:https://spartanburggives.org/wp-content/uploads/2024/08/5edf391f-1ee2-1252-6baf-30e643f9eacb.jpg
ORGANIZER;CN="Hub City Animal Project":MAILTO:hubcityanimalproject@gmail.com
END:VEVENT
BEGIN:VEVENT
DTSTART;TZID=America/New_York:20240826T083000
DTEND;TZID=America/New_York:20240830T170000
DTSTAMP:20260420T035956
CREATED:20240821T003043Z
LAST-MODIFIED:20240821T003043Z
UID:13779-1724661000-1725037200@spartanburggives.org
SUMMARY:Honoring Spartanburg County's K-12 Educators
DESCRIPTION:Help us Honor K-12 Teachers (current or retired from teaching in Spartanburg County)! \nNominate your favorite teachers and tell us how they have impacted you! \nTeachers who are nominated will be featured in the SCF digital exhibit in their Center for Philanthropy. Nominations are due Wednesday\, August 21. \n \n 
URL:https://spartanburggives.org/event/honoring-spartanburg-countys-k-12-educators/
LOCATION:The Robert Hett Chapman III Center for Philanthropy\, 431 East Kennedy Street\, Spartanburg\, South Carolina\, 29374
ATTACH;FMTTYPE=image/png:https://spartanburggives.org/wp-content/uploads/2024/08/unnamed-2.png
END:VEVENT
END:VCALENDAR