BEGIN:VCALENDAR
VERSION:2.0
PRODID:-//Spartanburg Gives - ECPv6.15.20//NONSGML v1.0//EN
CALSCALE:GREGORIAN
METHOD:PUBLISH
X-WR-CALNAME:Spartanburg Gives
X-ORIGINAL-URL:https://spartanburggives.org
X-WR-CALDESC:Events for Spartanburg Gives
REFRESH-INTERVAL;VALUE=DURATION:PT1H
X-Robots-Tag:noindex
X-PUBLISHED-TTL:PT1H
BEGIN:VTIMEZONE
TZID:America/New_York
BEGIN:DAYLIGHT
TZOFFSETFROM:-0500
TZOFFSETTO:-0400
TZNAME:EDT
DTSTART:20210314T070000
END:DAYLIGHT
BEGIN:STANDARD
TZOFFSETFROM:-0400
TZOFFSETTO:-0500
TZNAME:EST
DTSTART:20211107T060000
END:STANDARD
BEGIN:DAYLIGHT
TZOFFSETFROM:-0500
TZOFFSETTO:-0400
TZNAME:EDT
DTSTART:20220313T070000
END:DAYLIGHT
BEGIN:STANDARD
TZOFFSETFROM:-0400
TZOFFSETTO:-0500
TZNAME:EST
DTSTART:20221106T060000
END:STANDARD
BEGIN:DAYLIGHT
TZOFFSETFROM:-0500
TZOFFSETTO:-0400
TZNAME:EDT
DTSTART:20230312T070000
END:DAYLIGHT
BEGIN:STANDARD
TZOFFSETFROM:-0400
TZOFFSETTO:-0500
TZNAME:EST
DTSTART:20231105T060000
END:STANDARD
END:VTIMEZONE
BEGIN:VEVENT
DTSTART;TZID=America/New_York:20220203T130000
DTEND;TZID=America/New_York:20220203T140000
DTSTAMP:20260420T193326
CREATED:20220122T033305Z
LAST-MODIFIED:20220122T033305Z
UID:10282-1643893200-1643896800@spartanburggives.org
SUMMARY:Winter Wellness Series: Simon Mack-Orr of CycleBar Spartanburg
DESCRIPTION:Hub City is excited to welcome Simone Mack-Orr\, General Manager of Cyclebar Spartanburg\, to the shop to discuss fitness\, motivation\, and goal achievement! In conversation with our Events Coordinator\, Simone will talk about her fitness journey\, the meaning of wellness in 2022\, and the role that exercise plays in a well-rounded life. In addition to being a fitness expert\, Simone also performs as a thespian at the Spartanburg Little Theatre — so come out to hear the advice and guidance of this multi-talented multi-professional! This event is free and open to all!
URL:https://spartanburggives.org/event/winter-wellness-series-simon-mack-orr-of-cyclebar-spartanburg/
LOCATION:Hub City Bookshop\, 186 W Main Street\, Spartanburg\, SC\, 29306\, United States
END:VEVENT
BEGIN:VEVENT
DTSTART;TZID=America/New_York:20220203T070000
DTEND;TZID=America/New_York:20220203T080000
DTSTAMP:20260420T193326
CREATED:20220123T214617Z
LAST-MODIFIED:20220202T183829Z
UID:10299-1643871600-1643875200@spartanburggives.org
SUMMARY:Can You Hear Me Now? Listening to the Needs of Those we Serve Part 2
DESCRIPTION:Join Kabrina Bass\, executive director of Midlands Mediation Center\, for a second interactive session focusing on the importance of listening to those you serve. Participants will examine active listening as a tool to support their work as nonprofit professionals. Individuals will explore the ethical dilemma of nonprofits as exploiters\, reformers\, advocates and friends. \nObjective: \n\nDemonstrate active listening skills\nIdentify one or more ethical dilemmas\nCreate an opening statement to introduce their work to other
URL:https://spartanburggives.org/event/can-you-hear-me-now-listening-to-the-needs-of-those-we-serve-part-2/
LOCATION:Zoom
END:VEVENT
BEGIN:VEVENT
DTSTART;TZID=America/New_York:20220201T190000
DTEND;TZID=America/New_York:20220201T190000
DTSTAMP:20260420T193326
CREATED:20220202T183131Z
LAST-MODIFIED:20220202T183210Z
UID:10298-1643742000-1643742000@spartanburggives.org
SUMMARY:Nostalgic | Spartanburg Philharmonic
DESCRIPTION:From the first tinkling piano notes of a classic 80’s sitcom to the sweeping strings of Netflix’s most recent hit – classical music is at the center of many of television’s most memorable themes. Brought to life by your Spartanburg Philharmonic chamber ensemble\, each piece pulled from the smallscreen will have you feeling lighthearted and a bit nostalgic.
URL:https://spartanburggives.org/event/nostalgic-spartanburg-philharmonic/
LOCATION:Chapman Cultural Center\, 200 East Saint John street\, Spartanburg\, SC\, 29306\, United States
END:VEVENT
END:VCALENDAR