BEGIN:VCALENDAR
VERSION:2.0
PRODID:-//Spartanburg Gives - ECPv6.15.20//NONSGML v1.0//EN
CALSCALE:GREGORIAN
METHOD:PUBLISH
X-WR-CALNAME:Spartanburg Gives
X-ORIGINAL-URL:https://spartanburggives.org
X-WR-CALDESC:Events for Spartanburg Gives
REFRESH-INTERVAL;VALUE=DURATION:PT1H
X-Robots-Tag:noindex
X-PUBLISHED-TTL:PT1H
BEGIN:VTIMEZONE
TZID:America/New_York
BEGIN:DAYLIGHT
TZOFFSETFROM:-0500
TZOFFSETTO:-0400
TZNAME:EDT
DTSTART:20230312T070000
END:DAYLIGHT
BEGIN:STANDARD
TZOFFSETFROM:-0400
TZOFFSETTO:-0500
TZNAME:EST
DTSTART:20231105T060000
END:STANDARD
BEGIN:DAYLIGHT
TZOFFSETFROM:-0500
TZOFFSETTO:-0400
TZNAME:EDT
DTSTART:20240310T070000
END:DAYLIGHT
BEGIN:STANDARD
TZOFFSETFROM:-0400
TZOFFSETTO:-0500
TZNAME:EST
DTSTART:20241103T060000
END:STANDARD
BEGIN:DAYLIGHT
TZOFFSETFROM:-0500
TZOFFSETTO:-0400
TZNAME:EDT
DTSTART:20250309T070000
END:DAYLIGHT
BEGIN:STANDARD
TZOFFSETFROM:-0400
TZOFFSETTO:-0500
TZNAME:EST
DTSTART:20251102T060000
END:STANDARD
END:VTIMEZONE
BEGIN:VEVENT
DTSTART;TZID=America/New_York:20240422T190000
DTEND;TZID=America/New_York:20240422T200000
DTSTAMP:20260420T163139
CREATED:20240415T165005Z
LAST-MODIFIED:20240415T165005Z
UID:13560-1713812400-1713816000@spartanburggives.org
SUMMARY:7pm Reading for Transformation: Appalachian Elegy\, Poetry and Place by bell hooks
DESCRIPTION:Speaking Down Barriers’ “book club” where we discuss selected reading material. Our book for April is “Appalachian Elegy\, Poetry and Place by bell hooks. We will have our 12 noon discussion and our 7pm discussion both online via Zoom. Please register for the time you plan to attend using the link below.
URL:https://spartanburggives.org/event/7pm-reading-for-transformation-appalachian-elegy-poetry-and-place-by-bell-hooks/
LOCATION:Zoom
ATTACH;FMTTYPE=image/png:https://spartanburggives.org/wp-content/uploads/2024/04/Apr-Reading-for-Transformation-1.png
ORGANIZER;CN="Speaking Down Barriers":MAILTO:info@speakdownbarriers.org
END:VEVENT
BEGIN:VEVENT
DTSTART;TZID=America/New_York:20240422T120000
DTEND;TZID=America/New_York:20240422T130000
DTSTAMP:20260420T163139
CREATED:20240415T164852Z
LAST-MODIFIED:20240415T164852Z
UID:13557-1713787200-1713790800@spartanburggives.org
SUMMARY:12 noon Reading for Transformation: Appalachian Elegy\, Poetry and Place by bell hooks
DESCRIPTION:Speaking Down Barriers’ “book club” where we discuss selected reading material. Our book for April is “Appalachian Elegy\, Poetry and Place by bell hooks. We will have our 12 noon discussion and our 7pm discussion both online via Zoom. Please register for the time you plan to attend using the link below.
URL:https://spartanburggives.org/event/12-noon-reading-for-transformation-appalachian-elegy-poetry-and-place-by-bell-hooks/
LOCATION:SC
ATTACH;FMTTYPE=image/png:https://spartanburggives.org/wp-content/uploads/2024/04/Apr-Reading-for-Transformation.png
END:VEVENT
BEGIN:VEVENT
DTSTART;TZID=America/New_York:20240420T100000
DTEND;TZID=America/New_York:20240420T140000
DTSTAMP:20260420T163139
CREATED:20240320T190659Z
LAST-MODIFIED:20240320T190738Z
UID:13417-1713607200-1713621600@spartanburggives.org
SUMMARY:SPACE’s 35th Birthday Earth Day Bash
DESCRIPTION:Saturday\, April 20\, 2024\n10am – 2pm\nGlendale Shoals Preserve \nJoin us as we celebrate 35 years of the Spartanburg Area Conservancy and the importance of local conservation! This will be a great day full of music\, food\, outdoor activities\, and family friendly fun! \nActivities Include: \n\nLive Music by The Blue Notes!\nSpartanburg Science Center – Parachutes for the Planet Community Art Project\nNature Trading Post – bring your coolest backyard nature find to the trading post\, tell us about what your find\, see the other cool things kids have found\, and make a trade!\nSpartanburg Creative Reuse Art Project – make and take a fun craft! –\nKids Spin Zone – Join the Secret Cirkus and play with hula hoops\, giant bubbles\, and more!\nFace painting by Spartanburg High School Teacher Cadets –\nSpartanburg Public Libraries Bookmobile – don’t forget your library card!\nCribb’s Kitchen Cookout – presented by Cribb’s Kitchen and Rockers Brewing Company\nSPACE Birthday Bash! – Enjoy some birthday cake and celebrate with SPACE as we make a VERY EXCITING announcement!
URL:https://spartanburggives.org/event/space-earth-day-2024/
LOCATION:Glendale Shoals Preserve\, 350 Broadway St\, Glendale\, SC\, 29346\, United States
END:VEVENT
BEGIN:VEVENT
DTSTART;TZID=America/New_York:20240416T193000
DTEND;TZID=America/New_York:20240416T213000
DTSTAMP:20260420T163139
CREATED:20240415T164453Z
LAST-MODIFIED:20240415T164453Z
UID:13551-1713295800-1713303000@spartanburggives.org
SUMMARY:The Fount Open Mic & Discussion on Instagram LIVE
DESCRIPTION:Speaking Down Barriers creative platform for artists of ALL GENRES! Not an artists/ creative? Join our IG audience and be a part of the discussion!
URL:https://spartanburggives.org/event/the-fount-open-mic-discussion-on-instagram-live/
LOCATION:Instagram Live
ATTACH;FMTTYPE=image/png:https://spartanburggives.org/wp-content/uploads/2024/04/The-Fount-Mar-2024-promo-1.png
ORGANIZER;CN="Speaking Down Barriers":MAILTO:info@speakdownbarriers.org
END:VEVENT
BEGIN:VEVENT
DTSTART;TZID=America/New_York:20240416T180000
DTEND;TZID=America/New_York:20240416T203000
DTSTAMP:20260420T163139
CREATED:20240415T164719Z
LAST-MODIFIED:20240415T164719Z
UID:13554-1713290400-1713299400@spartanburggives.org
SUMMARY:Radically Accepting Us (RadUs)
DESCRIPTION:RadUs is an affinity space curated for and by our LGBTQIA+ friends\, family\, and community. It has become a brave space for LGBTQIA+ folx to gather for support\, camaraderie and fellowship. Here we discuss issues that uniquely impact the LQBTQIA+ community and collaborate to work toward a world where our mission of Equity for All can be a reality.
URL:https://spartanburggives.org/event/radically-accepting-us-radus-3/
LOCATION:Zoom
ATTACH;FMTTYPE=image/png:https://spartanburggives.org/wp-content/uploads/2024/04/Apr-RadUs-24.png
ORGANIZER;CN="Speaking Down Barriers":MAILTO:info@speakdownbarriers.org
END:VEVENT
BEGIN:VEVENT
DTSTART;TZID=America/New_York:20240414T153000
DTEND;TZID=America/New_York:20240414T173000
DTSTAMP:20260420T163139
CREATED:20240320T191516Z
LAST-MODIFIED:20240320T194329Z
UID:13423-1713108600-1713115800@spartanburggives.org
SUMMARY:The Fount Spoken Word Poetry Slam
DESCRIPTION:CALLING ALL POETS!!!! Speaking Down Barriers is hosting their first Spoken Word Poetry Slam on April 14th at the City of Greer Center for the Arts (804 Trade Street Greer\, SC)! If you are interested in slamming\, please register by April 10th. \nThe day will also include… \nA poetry/ writing workshop | 2p-3p\nThe Poetry Slam | 3:30p-5:30p\nA panel discussion | 5:30p-6:30p \nSpeaking Down Barriers’ 1st Poetry Slam! There will be 10 poets competing for prizes if $500 for 1st Place\, $200 for 2nd Place and $125 for 3rd Place. \nThere is a $10 registration fee for poets that can be paid via PayPal to info@speakdownbarriers.org. \nGeneral admission for the public will also be $10 and tickets can be purchased using this link: The Fount Spoken Word Poetry Slam tickets
URL:https://spartanburggives.org/event/speaking-down-barriers-poetry-slam-2024/
LOCATION:The City of Greer Center for the Arts\, 804 Trade Street\, Greer\, SC\, 29651\, United States
ORGANIZER;CN="Speaking Down Barriers":MAILTO:info@speakdownbarriers.org
END:VEVENT
BEGIN:VEVENT
DTSTART;TZID=America/New_York:20240413T190000
DTEND;TZID=America/New_York:20240413T190000
DTSTAMP:20260420T163139
CREATED:20240320T190137Z
LAST-MODIFIED:20240320T190137Z
UID:13414-1713034800-1713034800@spartanburggives.org
SUMMARY:Carmina Burana
DESCRIPTION:ONE NIGHT ONLY! \nBeautiful. Gripping. Dynamic. Set to the powerful music of German composer Carl Orff\, Carmina Burana tells the story of the cycle of life and love. Based on original poems written by Bavarin monks in the 11th to 13th centuries\, Carmina Burana’s riveting score performed by The Spartanburg Master Chorale & Orchestra Petrie School of Music at Converse University. Choreography by Carlos Agudelo highlights the strength of the Professional Company and the passion of dance. Noted as one of the most intense ballets of our century\, Carmina Burana is a breathtaking and compelling finale of the 23/24 season. \nChampagne 7:00 PM \nPerformance 7:30 PM \nSaturday\, April 13th at Twichell Auditorium. \nTwitchell Box Office: 864-596-9724
URL:https://spartanburggives.org/event/carmina-burana-4-13-24/
LOCATION:Twichell Auditorium
END:VEVENT
BEGIN:VEVENT
DTSTART;TZID=America/New_York:20240411T183000
DTEND;TZID=America/New_York:20240411T220000
DTSTAMP:20260420T163139
CREATED:20240320T185424Z
LAST-MODIFIED:20240320T193202Z
UID:13411-1712860200-1712872800@spartanburggives.org
SUMMARY:Spartanburg Little Theatre's Season Reveal Gala
DESCRIPTION:Join Spartanburg Little Theatre for an evening at the Rock and Roll Hall of Fame\, as they celebrate their 10th Annual Season Reveal Gala! \n6:30-8:00 pm: Gala & Silent Auction \nHouse opens at 7:30 for General Seating \n8:00-9:00 pm: Season reveal performance \n9:00-10:00 pm: Rockin’ Afterparty \nAttire: Cocktail or Rocker Chic (Dress as your favorite music legend!) \nTickets: \n$ 65.00 through March 15th \n$75.00 after March 15th \nYour ticket includes beer\, wine\, signature cocktails\, hors d’oeuvres\, and General Admission seating to our Season Reveal Performance. \nProceeds benefit Spartanburg Little Theatre & Spartanburg Youth Theatre \n***Ticket Sales are Non-Refundable
URL:https://spartanburggives.org/event/spartanburg-little-theatre-season-reveal-gala-4-11-24/
LOCATION:Chapman Cultural Center\, 200 East Saint John street\, Spartanburg\, SC\, 29306\, United States
END:VEVENT
BEGIN:VEVENT
DTSTART;TZID=America/New_York:20240408T180000
DTEND;TZID=America/New_York:20240408T203000
DTSTAMP:20260420T163139
CREATED:20240326T153532Z
LAST-MODIFIED:20240326T153557Z
UID:13461-1712599200-1712608200@spartanburggives.org
SUMMARY:Speaking Down Barriers' Learning Us
DESCRIPTION:Speaking Down Barriers hosts a racial affinity space for white folx to discuss ways to rethink and dismantle oppression. This is a complex and ongoing process that requires collective effort\, solidarity\, and sustained commitment to social justice.\n\n\n\nIf you’d like to take part in this\, please check out their link tree!
URL:https://spartanburggives.org/event/speaking-down-barriers-learning-us-4/
LOCATION:SC
ORGANIZER;CN="Speaking Down Barriers":MAILTO:info@speakdownbarriers.org
END:VEVENT
BEGIN:VEVENT
DTSTART;TZID=America/New_York:20240408T133000
DTEND;TZID=America/New_York:20240408T163000
DTSTAMP:20260420T163139
CREATED:20240320T184828Z
LAST-MODIFIED:20240320T192906Z
UID:13408-1712583000-1712593800@spartanburggives.org
SUMMARY:Spartanburg Science Center's Eclipse Watch Party
DESCRIPTION:Go to the Spartanburg Science Center to watch the solar eclipse! Snacks\, drinks\, and Eclipse glasses will be provided. This is a free event\, but please register and make sure to bring a picnic blanket\, lawn chair\, or anything else you need to enjoy a day outside. \n\nSpace is limited\, so please register to ensure your spot. \nYou might also consider purchasing a dinner after the Eclipse watch party\, which can be reserved through one of the 3 options on the Spartanburg Science Center events page.
URL:https://spartanburggives.org/event/spartanburg-science-center-solar-eclipse-4-8-24/
LOCATION:Spartanburg Science Center\, 200 E. Saint John St.\, Spartanburg\, SC\, 29306\, United States
END:VEVENT
BEGIN:VEVENT
DTSTART;TZID=America/New_York:20240406T180000
DTEND;TZID=America/New_York:20240406T193000
DTSTAMP:20260420T163139
CREATED:20240326T152828Z
LAST-MODIFIED:20240326T152828Z
UID:13457-1712426400-1712431800@spartanburggives.org
SUMMARY:Speaking Down Barriers' Community Dinner
DESCRIPTION:Speaking Down Barriers wanted to create and provide a space for people of all walks of life in our community to gather and collectively speak on things happening around us. Whether it be locally or across the globe\, there are many conflicts happening that find their ways into our discussions with family and friends. Some of the discussions are very challenging to have due to personal feelings\, impact or lack of information. It is our hope that those who attend can be brave and grieve the way they see fit while also being brave enough to be vulnerable and have these discussions amongst fellow members of our community.
URL:https://spartanburggives.org/event/speaking-down-barriers-community-dinner/
LOCATION:UU of Spartanburg\, 210 Henry Place\, Spartanburg\, SC\, 29306\, United States
ORGANIZER;CN="Speaking Down Barriers":MAILTO:info@speakdownbarriers.org
END:VEVENT
BEGIN:VEVENT
DTSTART;TZID=America/New_York:20240405T180000
DTEND;TZID=America/New_York:20240405T203000
DTSTAMP:20260420T163139
CREATED:20240326T150632Z
LAST-MODIFIED:20240326T151349Z
UID:13451-1712340000-1712349000@spartanburggives.org
SUMMARY:Healing Us: A racial affinity space
DESCRIPTION:Healing Us is a racial affinity space hosted by Speaking Down Barriers for Black folx to come together and center their healing absent of the white gaze. Speaking down barriers holds this space with the hopes that this will allow individuals to freely and bravely express themselves.
URL:https://spartanburggives.org/event/healing-us-a-racial-affinity-space/
LOCATION:SC
ORGANIZER;CN="Speaking Down Barriers":MAILTO:info@speakdownbarriers.org
END:VEVENT
BEGIN:VEVENT
DTSTART;TZID=America/New_York:20240328T173000
DTEND;TZID=America/New_York:20240328T203000
DTSTAMP:20260420T163139
CREATED:20240320T183447Z
LAST-MODIFIED:20240320T193110Z
UID:13402-1711647000-1711657800@spartanburggives.org
SUMMARY:Rally YP - Young Leaders & Young Professionals
DESCRIPTION:Join us for an exciting in-person event\, Rally YP\, on Thursday\, March 28 starting at the Denny’s Corporate Headquarters – 17th floor. Get ready to network with fellow young professionals\, and learn how you can plug in to the YP community in Spartanburg! \nThrough a reinvigorated partnership\, United Way Young Leaders\, Urban League of the Upstate Young Professionals\, and Spartanburg Young Professionals are joining forces to support a comprehensive community of young professional involvement in Spartanburg centered around advocacy\, networking\, mentoring\, leadership\, development\, and engagement. It all starts at Rally YP! \nAt the event\, leaders from each organization will take the stage to give insight on upcoming initiatives and events through which you can get involved. Plus\, the event will serve as the launch for a Spartanburg wide YP survey meant to collect your feedback for how you want to be a part of this growing community.
URL:https://spartanburggives.org/event/rallyyp-3-28-24/
LOCATION:Denny’s Tower (top floor/atrium)\, 203 E Main St\, Spartanburg\, SC\, 29319\, United States
END:VEVENT
BEGIN:VEVENT
DTSTART;TZID=America/New_York:20240326T080000
DTEND;TZID=America/New_York:20240326T170000
DTSTAMP:20260420T163139
CREATED:20240326T153838Z
LAST-MODIFIED:20240401T132139Z
UID:13464-1711440000-1711472400@spartanburggives.org
SUMMARY:The Magic of Math with Dr. Spivey
DESCRIPTION:It’s Spartanburg Science Center’s last STEM Spotlight Saturday until next fall! April’s event is called the Magic of Math with Dr.Spivey from Wofford College. We will learn all about the amazing things you can do with math (pssst! It includes bubbles and fun games).\n\n\n\nRegistration is only $10!
URL:https://spartanburggives.org/event/the-magic-of-math-with-dr-spivey/
LOCATION:Chapman Cultural Center\, 200 East Saint John street\, Spartanburg\, SC\, 29306\, United States
END:VEVENT
BEGIN:VEVENT
DTSTART;TZID=America/New_York:20240325T190000
DTEND;TZID=America/New_York:20240325T190000
DTSTAMP:20260420T163139
CREATED:20240320T182614Z
LAST-MODIFIED:20240320T195618Z
UID:13398-1711393200-1711393200@spartanburggives.org
SUMMARY:Reading for Transformation\, presented by Speaking Down Barriers
DESCRIPTION:Speaking Down Barriers’ “book club” where they discuss selected reading material. \nThe Reading for Transformation discussion for March will be next Monday\, March 25th in person and online via Zoom at 12 noon at Hub City Bookshop & Press in Spartanburg (186 W Main St.) and again at 7p online only. \nThe book for the month is The Night is Long but the Light Comes in the Morning: Meditations for Racial Healing by Catherine Meeks.
URL:https://spartanburggives.org/event/reading-for-transformation-3-25-24/
LOCATION:Hub City Bookshop\, 186 W Main Street\, Spartanburg\, SC\, 29306\, United States
ORGANIZER;CN="Speaking Down Barriers":MAILTO:info@speakdownbarriers.org
END:VEVENT
BEGIN:VEVENT
DTSTART;TZID=America/New_York:20240323T190000
DTEND;TZID=America/New_York:20240323T190000
DTSTAMP:20260420T163139
CREATED:20240320T184021Z
LAST-MODIFIED:20240320T193836Z
UID:13405-1711220400-1711220400@spartanburggives.org
SUMMARY:Best of Broadway
DESCRIPTION:We’re getting pumped for ‘Best of Broadway’ with Spartanburg Little Theatre & The Spartanburg Philharmonic this Saturday! Get ready for a concert experience like no other live from Twichell Auditorium at 7pm. \nScintillating strings and soaring vocals – the bright lights of Broadway come to the Hub City. Featuring our friends at the Spartanburg Little Theatre\, enjoy a one-night-only performance of memorable\, well-loved Broadway tunes together with the live music of your Spartanburg Philharmonic. Another magical arts partnership to brighten your spring and add a celebratory new note to our 95th Season. \nThey’re nearly SOLD OUT so don’t wait to get your tickets!
URL:https://spartanburggives.org/event/best-of-broadway-3-23-24/
LOCATION:Twichell Auditorium
END:VEVENT
BEGIN:VEVENT
DTSTART;TZID=America/New_York:20240321T170000
DTEND;TZID=America/New_York:20240321T200000
DTSTAMP:20260420T163139
CREATED:20240320T193702Z
LAST-MODIFIED:20240320T193744Z
UID:13436-1711040400-1711051200@spartanburggives.org
SUMMARY:Ridge Gallery Art Walk
DESCRIPTION:Join us in celebrating Nancy Corbin’s dynamic new work in her show. Her show\, Altogether\, uses abstracted figures\, color and texture in multiple layers\, creating a conjuring of the artist’s thoughts and dreams informed by historical ties and current events. \nConnect with other local artists\, share ideas and enjoy the refreshments!
URL:https://spartanburggives.org/event/ridge-gallery-art-walk-3-21-24/
LOCATION:Ridge Gallery\, 146-C E. Main St\, Spartanburg\, SC\, United States
END:VEVENT
BEGIN:VEVENT
DTSTART;TZID=America/New_York:20240321T170000
DTEND;TZID=America/New_York:20240321T200000
DTSTAMP:20260420T163139
CREATED:20240320T182137Z
LAST-MODIFIED:20240320T182720Z
UID:13393-1711040400-1711051200@spartanburggives.org
SUMMARY:Science of Wine - Presented by Spartanburg Science Center
DESCRIPTION:Join the Spartanburg Science Center on Thursday\, March 21 for everyone’s favorite event – The Science of Wine! Travel around the museum to different tasting stations throughout the evening\, and explore the Center. Tickets are $45 and include tastings and a grazing board. \nThis event is presented by Bond Street Wines. The Science Center will be open from 5-8pm at 200 East St. John Street during the event on 3/21.
URL:https://spartanburggives.org/event/science-of-wine-3-21-2024/
LOCATION:Spartanburg Science Center\, 200 E. Saint John St.\, Spartanburg\, SC\, 29306\, United States
END:VEVENT
BEGIN:VEVENT
DTSTART;TZID=America/New_York:20240309T093000
DTEND;TZID=America/New_York:20240309T110000
DTSTAMP:20260420T163139
CREATED:20240117T192029Z
LAST-MODIFIED:20240117T192029Z
UID:13322-1709976600-1709982000@spartanburggives.org
SUMMARY:2nd Annual Run for Kids’ Sake 5K & 1 Miler
DESCRIPTION:Our first fundraising event of the year will be the 2nd Annual Run For Kids’ Sake on Saturday\, March 9th\, beginning at 9 AM. Through sponsorships\, donations\, and event registrations\, funds will be raised for mentoring relationships for underserved children right here in our community. \nThe 5K run will take participants through a scenic route within Lake Conestee Nature Park\, in Greenville\, SC. The route may include well-maintained trails\, boardwalks\, and possibly some challenging yet rewarding terrains. The 1-mile fun run takes a more leisurely path within the park\, ensuring a family-friendly atmosphere. This shorter route allows children\, beginners\, and those looking for a more relaxed experience to join in the festivities.  \nGet Tickets Here
URL:https://spartanburggives.org/event/2nd-annual-run-for-kids-sake-5k-1-miler/
LOCATION:Lake Conestee Nature Park\, 840 Mauldin Rd\, Greenville\, SC\, 29607\, United States
ATTACH;FMTTYPE=image/jpeg:https://spartanburggives.org/wp-content/uploads/2024/01/408276179_735735731917171_986017764465083431_n.jpeg
END:VEVENT
BEGIN:VEVENT
DTSTART;VALUE=DATE:20240309
DTEND;VALUE=DATE:20240310
DTSTAMP:20260420T163139
CREATED:20240125T190609Z
LAST-MODIFIED:20240125T190609Z
UID:13361-1709942400-1710028799@spartanburggives.org
SUMMARY:St. Patty's Day Party at The Grill (details to come)
DESCRIPTION:St. Patty’s Day Party at The Grill (details to come)
URL:https://spartanburggives.org/event/st-pattys-day-party-at-the-grill-details-to-come/
LOCATION:SC
END:VEVENT
BEGIN:VEVENT
DTSTART;TZID=America/New_York:20240224T190000
DTEND;TZID=America/New_York:20240224T220000
DTSTAMP:20260420T163139
CREATED:20231207T012710Z
LAST-MODIFIED:20231207T012710Z
UID:13275-1708801200-1708812000@spartanburggives.org
SUMMARY:Hope Center for Children's Winter Gala
DESCRIPTION:SAVE THE DATE for An Evening in the Enchanted Forest! On Saturday\, February 24\, 2024\, Hope Center for Children will host its first Winter Gala at the Magnolia Grand from 7 p.m. to 10 p.m. The event will feature a chef-prepared dinner\, dancing\, interactive cocktail-making\, dazzling raffle items\, and a silent auction. \nThe Winter Gala sets to raise $250\,000 to support the programs and services provided by Hope Center for Children. Tickets are $125 per person and will be on sale soon. Guests must be 21 or older. \nStay tuned for more information and a special link to secure your tickets.
URL:https://spartanburggives.org/event/hope-center-for-childrens-winter-gala/
LOCATION:Magnolia Grand\, 106 West Broad Street\, Spartanburg\, South Carolina
ATTACH;FMTTYPE=image/jpeg:https://spartanburggives.org/wp-content/uploads/2023/12/2ba8fc32-abeb-d89e-fe6f-a8833e070352.jpg
ORGANIZER;CN="Hope Center for Children":MAILTO:kbrown@hopecfc.org
END:VEVENT
BEGIN:VEVENT
DTSTART;VALUE=DATE:20240224
DTEND;VALUE=DATE:20240225
DTSTAMP:20260420T163139
CREATED:20240125T190521Z
LAST-MODIFIED:20240125T190521Z
UID:13359-1708732800-1708819199@spartanburggives.org
SUMMARY:Bond Street Wine Fundraiser (details to come) 
DESCRIPTION:
URL:https://spartanburggives.org/event/bond-street-wine-fundraiser-details-to-come/
LOCATION:SC
END:VEVENT
BEGIN:VEVENT
DTSTART;VALUE=DATE:20240224
DTEND;VALUE=DATE:20240225
DTSTAMP:20260420T163139
CREATED:20240105T031145Z
LAST-MODIFIED:20240105T031145Z
UID:13312-1708732800-1708819199@spartanburggives.org
SUMMARY:BRUH Mentor: Sneakerball Gala
DESCRIPTION:The purpose of the Sneaker Ball Gala is to highlight the great achievements within BRUH Mentor and celebrate the many mentors that are a part of their mission. The success of the BRUH Mentor Sneaker Ball Gala will be credited largely to the volunteers and supporters who give their time\, money\, and resources to support their mentoring programs.
URL:https://spartanburggives.org/event/bruh-mentor-sneakerball-gala/
LOCATION:SC
ATTACH;FMTTYPE=image/jpeg:https://spartanburggives.org/wp-content/uploads/2024/01/016501f9-83b4-17ac-5bb7-6a0a0ea83158.jpeg
END:VEVENT
BEGIN:VEVENT
DTSTART;VALUE=DATE:20240224
DTEND;VALUE=DATE:20240225
DTSTAMP:20260420T163139
CREATED:20240105T031010Z
LAST-MODIFIED:20240105T031010Z
UID:13309-1708732800-1708819199@spartanburggives.org
SUMMARY:Hope Center for Children: Winter Gala
DESCRIPTION:SAVE THE DATE for An Evening in the Enchanted Forest! On Saturday\, February 24\, 2024\, Hope Center for Children will host its first Winter Gala at the Magnolia Grand from 7 p.m. to 10 p.m. The event will feature a chef-prepared dinner\, dancing\, interactive cocktail-making\, dazzling raffle items\, and a silent auction. \nThe Winter Gala sets to raise $250\,000 to support the programs and services provided by Hope Center for Children. Tickets are $125 per person and will be on sale soon. Guests must be 21 or older. \nStay tuned for more information and a special link to secure your tickets.
URL:https://spartanburggives.org/event/hope-center-for-children-winter-gala/
LOCATION:SC
ATTACH;FMTTYPE=image/jpeg:https://spartanburggives.org/wp-content/uploads/2024/01/2ba8fc32-abeb-d89e-fe6f-a8833e070352.jpeg
END:VEVENT
BEGIN:VEVENT
DTSTART;VALUE=DATE:20240224
DTEND;VALUE=DATE:20240225
DTSTAMP:20260420T163139
CREATED:20231207T013033Z
LAST-MODIFIED:20231207T013033Z
UID:13279-1708732800-1708819199@spartanburggives.org
SUMMARY:BRUH Mentor's Sneakerball Gala
DESCRIPTION:The purpose of the Sneaker Ball Gala is to highlight the great achievements within BRUH Mentor and celebrate the many mentors that are a part of their mission. The success of the BRUH Mentor Sneaker Ball Gala will be credited largely to the volunteers and supporters who give their time\, money\, and resources to support their mentoring programs.
URL:https://spartanburggives.org/event/bruh-mentors-sneakerball-gala/
LOCATION:Chapman Cultural Center\, 200 East Saint John street\, Spartanburg\, SC\, 29306\, United States
ATTACH;FMTTYPE=image/jpeg:https://spartanburggives.org/wp-content/uploads/2023/12/20bbdbd7-6d45-5cbb-e5c5-bd56fbd063c5.jpg
END:VEVENT
BEGIN:VEVENT
DTSTART;TZID=America/New_York:20240216T190000
DTEND;TZID=America/New_York:20240216T220000
DTSTAMP:20260420T163139
CREATED:20240125T190419Z
LAST-MODIFIED:20240125T190419Z
UID:13357-1708110000-1708120800@spartanburggives.org
SUMMARY:Mardi Gras Party at Chapman Cultural Center
DESCRIPTION:February 16th: Stacy McBride\, Mardi Gras Party at Chapman Cultural Center 7pm
URL:https://spartanburggives.org/event/mardi-gras-party-at-chapman-cultural-center/
LOCATION:Chapman Cultural Center\, 200 East Saint John street\, Spartanburg\, SC\, 29306\, United States
END:VEVENT
BEGIN:VEVENT
DTSTART;TZID=America/New_York:20240210T170000
DTEND;TZID=America/New_York:20240210T210000
DTSTAMP:20260420T163139
CREATED:20240125T190254Z
LAST-MODIFIED:20240125T190254Z
UID:13352-1707584400-1707598800@spartanburggives.org
SUMMARY:Kids night out at SDS
DESCRIPTION:Feb 10th: Bob Allsbrook\, Kids night out at SDS 5-9pm
URL:https://spartanburggives.org/event/kids-night-out-at-sds/
LOCATION:SDS
ATTACH;FMTTYPE=image/jpeg:https://spartanburggives.org/wp-content/uploads/2024/01/Attachment-1.jpeg
END:VEVENT
BEGIN:VEVENT
DTSTART;TZID=America/New_York:20240205T120000
DTEND;TZID=America/New_York:20240205T170000
DTSTAMP:20260420T163139
CREATED:20240125T185755Z
LAST-MODIFIED:20240125T185836Z
UID:13345-1707134400-1707152400@spartanburggives.org
SUMMARY:Jeff Goshorn\, Phish Fry at Fr8yard 12-5pm
DESCRIPTION:February 10th: Phish Fry at Fr8yard 12-5pm
URL:https://spartanburggives.org/event/jeff-goshorn-phish-fry-at-fr8yard-12-5pm/
LOCATION:Fr8yard\, 125 E Main St\, Spartanburg\, 29306\, United States
ATTACH;FMTTYPE=image/png:https://spartanburggives.org/wp-content/uploads/2024/01/Screenshot-2024-01-22-at-2.58.49 PM.png
END:VEVENT
BEGIN:VEVENT
DTSTART;TZID=America/New_York:20240204T120000
DTEND;TZID=America/New_York:20240204T170000
DTSTAMP:20260420T163139
CREATED:20240125T190012Z
LAST-MODIFIED:20240125T190039Z
UID:13348-1707048000-1707066000@spartanburggives.org
SUMMARY:Walker Wakefield\, Oyster Roast at RJ Rockers
DESCRIPTION:12- 5pm
URL:https://spartanburggives.org/event/walker-wakefield-oyster-roast-at-rj-rockers/
LOCATION:RJ Rockers\, 226-A W Main Street\, Spartanburg\, SC
ATTACH;FMTTYPE=image/jpeg:https://spartanburggives.org/wp-content/uploads/2024/01/IMG_1575.jpg
END:VEVENT
BEGIN:VEVENT
DTSTART;TZID=America/New_York:20240202T183000
DTEND;TZID=America/New_York:20240202T220000
DTSTAMP:20260420T163139
CREATED:20230928T014959Z
LAST-MODIFIED:20231108T222954Z
UID:13008-1706898600-1706911200@spartanburggives.org
SUMMARY:18th Annual Laugh for a Child
DESCRIPTION:Healthy Smiles of Spartanburg’s 18th Annual Laugh for a Child featuring local dentists and businesses competing for the Golden Crown Award. This year theme\, Grin Ole Opry. Voting on contestant’s posters begin in November – February 2\, 2024. Contestants will reveal their videos for final voting the night of the event\, February 2\, 2024 at the Spartanburg Memorial Auditorium’s “The Hall” beginning at 6:30 PM. Keep on pickin and a grinnin with Southern Station Band. Email willism@sccsc.edu or catesk@sccsc.edu for sponsorship or ticket opportunities.
URL:https://spartanburggives.org/event/18th-annual-laugh-for-a-child/
LOCATION:Spartanburg Auditorium – “The Hall”\, 385 N. Church Street\, South Carolina
ATTACH;FMTTYPE=image/jpeg:https://spartanburggives.org/wp-content/uploads/2023/09/IMG_8802.jpg
ORGANIZER;CN="Healthy Smiles of Spartanburg":MAILTO:ivette@healthysmilessc.org
END:VEVENT
END:VCALENDAR