BEGIN:VCALENDAR
VERSION:2.0
PRODID:-//Spartanburg Gives - ECPv6.15.20//NONSGML v1.0//EN
CALSCALE:GREGORIAN
METHOD:PUBLISH
X-ORIGINAL-URL:https://spartanburggives.org
X-WR-CALDESC:Events for Spartanburg Gives
REFRESH-INTERVAL;VALUE=DURATION:PT1H
X-Robots-Tag:noindex
X-PUBLISHED-TTL:PT1H
BEGIN:VTIMEZONE
TZID:America/New_York
BEGIN:DAYLIGHT
TZOFFSETFROM:-0500
TZOFFSETTO:-0400
TZNAME:EDT
DTSTART:20240310T070000
END:DAYLIGHT
BEGIN:STANDARD
TZOFFSETFROM:-0400
TZOFFSETTO:-0500
TZNAME:EST
DTSTART:20241103T060000
END:STANDARD
BEGIN:DAYLIGHT
TZOFFSETFROM:-0500
TZOFFSETTO:-0400
TZNAME:EDT
DTSTART:20250309T070000
END:DAYLIGHT
BEGIN:STANDARD
TZOFFSETFROM:-0400
TZOFFSETTO:-0500
TZNAME:EST
DTSTART:20251102T060000
END:STANDARD
BEGIN:DAYLIGHT
TZOFFSETFROM:-0500
TZOFFSETTO:-0400
TZNAME:EDT
DTSTART:20260308T070000
END:DAYLIGHT
BEGIN:STANDARD
TZOFFSETFROM:-0400
TZOFFSETTO:-0500
TZNAME:EST
DTSTART:20261101T060000
END:STANDARD
END:VTIMEZONE
BEGIN:VEVENT
DTSTART;TZID=America/New_York:20250131T180000
DTEND;TZID=America/New_York:20250131T180000
DTSTAMP:20260420T120746
CREATED:20241126T191442Z
LAST-MODIFIED:20241126T191442Z
UID:14100-1738346400-1738346400@spartanburggives.org
SUMMARY:19th Annual Laugh for a Child
DESCRIPTION:The 19th Annual Laugh for a Child is back; Healthy Smiles of Spartanburg can’t wait to share a night of laughter with you! Join them on January 31\, 2025\, at the Spartanburg Memorial Auditorium “The Hall” for a night of comedy with Headliner\, Karen Morgan and the wildly funny Cliff Cash. All sponsors will enjoy exclusive access to a VIP party featuring Uptown Dueling Pianos\, delicious food\, & cocktails \n 
URL:https://spartanburggives.org/event/19th-annual-laugh-for-a-child/
LOCATION:Spartanburg Memorial Auditorium\, 385 N Church Street\, Spartanburg\, SC
ATTACH;FMTTYPE=image/jpeg:https://spartanburggives.org/wp-content/uploads/2024/11/unnamed-7.jpg
ORGANIZER;CN="Healthy Smiles of Spartanburg":MAILTO:ivette@healthysmilessc.org
END:VEVENT
END:VCALENDAR