BEGIN:VCALENDAR
VERSION:2.0
PRODID:-//Spartanburg Gives - ECPv6.15.20//NONSGML v1.0//EN
CALSCALE:GREGORIAN
METHOD:PUBLISH
X-WR-CALNAME:Spartanburg Gives
X-ORIGINAL-URL:https://spartanburggives.org
X-WR-CALDESC:Events for Spartanburg Gives
REFRESH-INTERVAL;VALUE=DURATION:PT1H
X-Robots-Tag:noindex
X-PUBLISHED-TTL:PT1H
BEGIN:VTIMEZONE
TZID:America/New_York
BEGIN:DAYLIGHT
TZOFFSETFROM:-0500
TZOFFSETTO:-0400
TZNAME:EDT
DTSTART:20240310T070000
END:DAYLIGHT
BEGIN:STANDARD
TZOFFSETFROM:-0400
TZOFFSETTO:-0500
TZNAME:EST
DTSTART:20241103T060000
END:STANDARD
BEGIN:DAYLIGHT
TZOFFSETFROM:-0500
TZOFFSETTO:-0400
TZNAME:EDT
DTSTART:20250309T070000
END:DAYLIGHT
BEGIN:STANDARD
TZOFFSETFROM:-0400
TZOFFSETTO:-0500
TZNAME:EST
DTSTART:20251102T060000
END:STANDARD
BEGIN:DAYLIGHT
TZOFFSETFROM:-0500
TZOFFSETTO:-0400
TZNAME:EDT
DTSTART:20260308T070000
END:DAYLIGHT
BEGIN:STANDARD
TZOFFSETFROM:-0400
TZOFFSETTO:-0500
TZNAME:EST
DTSTART:20261101T060000
END:STANDARD
END:VTIMEZONE
BEGIN:VEVENT
DTSTART;VALUE=DATE:20250117
DTEND;VALUE=DATE:20250127
DTSTAMP:20260420T120628
CREATED:20250109T170128Z
LAST-MODIFIED:20250109T201138Z
UID:14145-1737072000-1737935999@spartanburggives.org
SUMMARY:Little Shop of Horrors
DESCRIPTION:One of Off-Broadway’s biggest hits\, this deviously delicious man-eating sci-fi smash musical has devoured the hearts of theatre goers for over 30 years. The meek floral assistant Seymour Krelborn stumbles across a new breed of plant he names “Audrey II” – after his coworker crush. This foul-mouthed\, R&B-singing carnivore promises unending fame and fortune to the down and out Krelborn as long as he keeps feeding it\, BLOOD. Over time\, though\, Seymour discovers Audrey II’s out of this world origins and intent towards global domination!
URL:https://spartanburggives.org/event/little-shop-of-horrors/
LOCATION:Spartanburg Little Theatre\, 200 E. St. John Street\, Spartanburg\, SC\, 29306
ATTACH;FMTTYPE=image/jpeg:https://spartanburggives.org/wp-content/uploads/2025/01/469359971_1056414966495666_2026297099691547351_n.jpg
END:VEVENT
BEGIN:VEVENT
DTSTART;TZID=America/New_York:20250123T180000
DTEND;TZID=America/New_York:20250125T180000
DTSTAMP:20260420T120628
CREATED:20241126T165459Z
LAST-MODIFIED:20241126T165511Z
UID:14083-1737655200-1737828000@spartanburggives.org
SUMMARY:Tangos & Tapas
DESCRIPTION:The Studio One Series offers an evening of Latin flair with a well-known dance of love-the tango. Tangos from well-known ballets and original choreographed pieces will be part of the evening enhanced by tapas and vino before the performance. Performances will take place in our beautiful Ballet Spartanburg studios.
URL:https://spartanburggives.org/event/tangos-tapas/
LOCATION:Chapman Cultural Center\, 200 East Saint John street\, Spartanburg\, SC\, 29306\, United States
ATTACH;FMTTYPE=image/jpeg:https://spartanburggives.org/wp-content/uploads/2024/11/Tangos-Tapas-Updated-Poster.jpg
END:VEVENT
END:VCALENDAR