BEGIN:VCALENDAR
VERSION:2.0
PRODID:-//Spartanburg Gives - ECPv6.15.20//NONSGML v1.0//EN
CALSCALE:GREGORIAN
METHOD:PUBLISH
X-ORIGINAL-URL:https://spartanburggives.org
X-WR-CALDESC:Events for Spartanburg Gives
REFRESH-INTERVAL;VALUE=DURATION:PT1H
X-Robots-Tag:noindex
X-PUBLISHED-TTL:PT1H
BEGIN:VTIMEZONE
TZID:America/New_York
BEGIN:DAYLIGHT
TZOFFSETFROM:-0500
TZOFFSETTO:-0400
TZNAME:EDT
DTSTART:20230312T070000
END:DAYLIGHT
BEGIN:STANDARD
TZOFFSETFROM:-0400
TZOFFSETTO:-0500
TZNAME:EST
DTSTART:20231105T060000
END:STANDARD
BEGIN:DAYLIGHT
TZOFFSETFROM:-0500
TZOFFSETTO:-0400
TZNAME:EDT
DTSTART:20240310T070000
END:DAYLIGHT
BEGIN:STANDARD
TZOFFSETFROM:-0400
TZOFFSETTO:-0500
TZNAME:EST
DTSTART:20241103T060000
END:STANDARD
BEGIN:DAYLIGHT
TZOFFSETFROM:-0500
TZOFFSETTO:-0400
TZNAME:EDT
DTSTART:20250309T070000
END:DAYLIGHT
BEGIN:STANDARD
TZOFFSETFROM:-0400
TZOFFSETTO:-0500
TZNAME:EST
DTSTART:20251102T060000
END:STANDARD
END:VTIMEZONE
BEGIN:VEVENT
DTSTART;TZID=America/New_York:20241210T183000
DTEND;TZID=America/New_York:20241210T203000
DTSTAMP:20260420T102441
CREATED:20241125T235116Z
LAST-MODIFIED:20241125T235318Z
UID:14053-1733855400-1733862600@spartanburggives.org
SUMMARY:2024 Spartanburg Christmas Parade
DESCRIPTION:Come enjoy the magic of Christmas with your Spartanburg community! The streets will be filled with twinkling lights & cheerful floats bringing you and your family some Christmas joy!!\nThis event is a time honored tradition for Spartanburg residents to enjoy while the Spartanburg Jaycees work in partnership behind the scenes with sponsors & participants to give back to the community. This parade allows for some local kids to take part in a Christmas shopping spree\, a community Christmas Luncheon\, and more. Reach out to the Spartanburg Jaycees for more details or how to volunteer!! (email sc_spartanburg@jciusa.org
URL:https://spartanburggives.org/event/2024-spartanburg-christmas-parade/
LOCATION:Downtown Spartanburg\, Spartanburg
ATTACH;FMTTYPE=image/jpeg:https://spartanburggives.org/wp-content/uploads/2024/11/463390664_955654133265081_9024063117672332942_n.jpg
ORGANIZER;CN="JCI Spartanburg":MAILTO:spartanburgjaycees@gmail.com
END:VEVENT
END:VCALENDAR