BEGIN:VCALENDAR
VERSION:2.0
PRODID:-//Spartanburg Gives - ECPv6.15.20//NONSGML v1.0//EN
CALSCALE:GREGORIAN
METHOD:PUBLISH
X-WR-CALNAME:Spartanburg Gives
X-ORIGINAL-URL:https://spartanburggives.org
X-WR-CALDESC:Events for Spartanburg Gives
REFRESH-INTERVAL;VALUE=DURATION:PT1H
X-Robots-Tag:noindex
X-PUBLISHED-TTL:PT1H
BEGIN:VTIMEZONE
TZID:America/New_York
BEGIN:DAYLIGHT
TZOFFSETFROM:-0500
TZOFFSETTO:-0400
TZNAME:EDT
DTSTART:20230312T070000
END:DAYLIGHT
BEGIN:STANDARD
TZOFFSETFROM:-0400
TZOFFSETTO:-0500
TZNAME:EST
DTSTART:20231105T060000
END:STANDARD
BEGIN:DAYLIGHT
TZOFFSETFROM:-0500
TZOFFSETTO:-0400
TZNAME:EDT
DTSTART:20240310T070000
END:DAYLIGHT
BEGIN:STANDARD
TZOFFSETFROM:-0400
TZOFFSETTO:-0500
TZNAME:EST
DTSTART:20241103T060000
END:STANDARD
BEGIN:DAYLIGHT
TZOFFSETFROM:-0500
TZOFFSETTO:-0400
TZNAME:EDT
DTSTART:20250309T070000
END:DAYLIGHT
BEGIN:STANDARD
TZOFFSETFROM:-0400
TZOFFSETTO:-0500
TZNAME:EST
DTSTART:20251102T060000
END:STANDARD
END:VTIMEZONE
BEGIN:VEVENT
DTSTART;TZID=America/New_York:20241203T173000
DTEND;TZID=America/New_York:20241203T200000
DTSTAMP:20260420T102429
CREATED:20241125T184715Z
LAST-MODIFIED:20241125T184936Z
UID:14034-1733247000-1733256000@spartanburggives.org
SUMMARY:Brew Good with Spartanburg Gives for Giving Tuesday
DESCRIPTION:Join Spartanburg Gives on December 3 as we Brew Good for Giving Tuesday during Dickens of a Christmas! Support local nonprofits at FR8Yard with free brews and live tunes from Columbia-based Funk Band\, MMS Trio. \nThis event is FREE to the community and family friendly. Participants will be given a free drink ticket for visiting 5 booths and taking action to support our wonderful nonprofit community and their Giving Tuesday goals. \nLearn more about these organizations at spartanburggives.org. \n\nA Light Unto My Path\nHelp for Our Elderly\nHope Center for Children\nHub City Animal Project\nNAMI\nNorthside Development Group\nProject R.E.S.T.\nSouth Carolina School for the Deaf & Blind\nSpartanburg Science Center\nSpeaking Down Barriers\nSt. Luke’s Free Medical Clinic\nUnited Way of the Piedmont
URL:https://spartanburggives.org/event/brew-good-with-spartanburg-gives-for-giving-tuesday/
LOCATION:Fr8yard\, 125 E Main St\, Spartanburg\, 29306\, United States
ATTACH;FMTTYPE=image/png:https://spartanburggives.org/wp-content/uploads/2024/11/NOV-28-530PM-800PM-2.png
ORGANIZER;CN="Spartanburg Gives":MAILTO:info@spartanburggives.org
END:VEVENT
END:VCALENDAR