BEGIN:VCALENDAR
VERSION:2.0
PRODID:-//Spartanburg Gives - ECPv6.15.20//NONSGML v1.0//EN
CALSCALE:GREGORIAN
METHOD:PUBLISH
X-ORIGINAL-URL:https://spartanburggives.org
X-WR-CALDESC:Events for Spartanburg Gives
REFRESH-INTERVAL;VALUE=DURATION:PT1H
X-Robots-Tag:noindex
X-PUBLISHED-TTL:PT1H
BEGIN:VTIMEZONE
TZID:America/New_York
BEGIN:DAYLIGHT
TZOFFSETFROM:-0500
TZOFFSETTO:-0400
TZNAME:EDT
DTSTART:20230312T070000
END:DAYLIGHT
BEGIN:STANDARD
TZOFFSETFROM:-0400
TZOFFSETTO:-0500
TZNAME:EST
DTSTART:20231105T060000
END:STANDARD
BEGIN:DAYLIGHT
TZOFFSETFROM:-0500
TZOFFSETTO:-0400
TZNAME:EDT
DTSTART:20240310T070000
END:DAYLIGHT
BEGIN:STANDARD
TZOFFSETFROM:-0400
TZOFFSETTO:-0500
TZNAME:EST
DTSTART:20241103T060000
END:STANDARD
BEGIN:DAYLIGHT
TZOFFSETFROM:-0500
TZOFFSETTO:-0400
TZNAME:EDT
DTSTART:20250309T070000
END:DAYLIGHT
BEGIN:STANDARD
TZOFFSETFROM:-0400
TZOFFSETTO:-0500
TZNAME:EST
DTSTART:20251102T060000
END:STANDARD
END:VTIMEZONE
BEGIN:VEVENT
DTSTART;TZID=America/New_York:20241114T173000
DTEND;TZID=America/New_York:20241114T200000
DTSTAMP:20260420T125746
CREATED:20241104T234928Z
LAST-MODIFIED:20241104T234928Z
UID:13937-1731605400-1731614400@spartanburggives.org
SUMMARY:SC School for the Deaf and Blind’s Art Show November 14th
DESCRIPTION:From time to time\, the SC School for the Deaf and the Blind (SCSDB) Foundation hosts a student art show & auction for their friends and donors. This year\, the Art Show & Auction will be on November 14\, 2024 from 5:30-8:00 PM in Walker Hall on the SCSDB campus. You will not only see beautiful student art\, ceramics\, note cards\, candles\, pottery and jewelry but you can also purchase these items. A portion of the proceeds will go back to the artists\, a portion into the Fine Arts Program at SCSDB to purchase supplies for more art work\, and a portion to the Foundation to continue our support of SCSDB. \n 
URL:https://spartanburggives.org/event/sc-school-for-the-deaf-and-blinds-art-show-november-14th/
LOCATION:South Carolina School for the Deaf and the Blind\, 355 Cedar Springs Rd\, Spartanburg\, SC\, 29302
ATTACH;FMTTYPE=image/png:https://spartanburggives.org/wp-content/uploads/2024/11/unnamed-1.png
END:VEVENT
BEGIN:VEVENT
DTSTART;TZID=America/New_York:20241114T180000
DTEND;TZID=America/New_York:20241114T210000
DTSTAMP:20260420T125746
CREATED:20240926T173742Z
LAST-MODIFIED:20241011T184344Z
UID:13865-1731607200-1731618000@spartanburggives.org
SUMMARY:Arts & Blues
DESCRIPTION:THIS EVENT HAS BEEN POSTPONED DUE TO HURRICANE HELENE. NEW DATES TO BE ANNOUNCED. \nAn evening of great food\, music and silent auction to benefit NAMI Spartanburg.
URL:https://spartanburggives.org/event/arts-blues-2/
LOCATION:SC
ATTACH;FMTTYPE=image/png:https://spartanburggives.org/wp-content/uploads/2024/09/Screenshot-2024-09-25-005902.png
ORGANIZER;CN="NAMI Spartanburg":MAILTO:office@namispartanburgsc.org
END:VEVENT
END:VCALENDAR