BEGIN:VCALENDAR
VERSION:2.0
PRODID:-//Spartanburg Gives - ECPv6.15.20//NONSGML v1.0//EN
CALSCALE:GREGORIAN
METHOD:PUBLISH
X-WR-CALNAME:Spartanburg Gives
X-ORIGINAL-URL:https://spartanburggives.org
X-WR-CALDESC:Events for Spartanburg Gives
REFRESH-INTERVAL;VALUE=DURATION:PT1H
X-Robots-Tag:noindex
X-PUBLISHED-TTL:PT1H
BEGIN:VTIMEZONE
TZID:America/New_York
BEGIN:DAYLIGHT
TZOFFSETFROM:-0500
TZOFFSETTO:-0400
TZNAME:EDT
DTSTART:20230312T070000
END:DAYLIGHT
BEGIN:STANDARD
TZOFFSETFROM:-0400
TZOFFSETTO:-0500
TZNAME:EST
DTSTART:20231105T060000
END:STANDARD
BEGIN:DAYLIGHT
TZOFFSETFROM:-0500
TZOFFSETTO:-0400
TZNAME:EDT
DTSTART:20240310T070000
END:DAYLIGHT
BEGIN:STANDARD
TZOFFSETFROM:-0400
TZOFFSETTO:-0500
TZNAME:EST
DTSTART:20241103T060000
END:STANDARD
BEGIN:DAYLIGHT
TZOFFSETFROM:-0500
TZOFFSETTO:-0400
TZNAME:EDT
DTSTART:20250309T070000
END:DAYLIGHT
BEGIN:STANDARD
TZOFFSETFROM:-0400
TZOFFSETTO:-0500
TZNAME:EST
DTSTART:20251102T060000
END:STANDARD
END:VTIMEZONE
BEGIN:VEVENT
DTSTART;TZID=America/New_York:20240901T160000
DTEND;TZID=America/New_York:20241031T210000
DTSTAMP:20260420T072345
CREATED:20240926T180107Z
LAST-MODIFIED:20240926T180107Z
UID:13873-1725206400-1730408400@spartanburggives.org
SUMMARY:Donate to Defend Potential Craft Axe Throwing
DESCRIPTION:Craft Axe Throwing is partnering with Big Brothers Big Sisters of the Upstate to support mentoring relationships! \nThroughout September and October\, customers at the Greenville and Spartanburg Craft Axe Throwing locations can make a donation at checkout\, which directly creates and supports matches for disadvantaged youth in the Upstate.
URL:https://spartanburggives.org/event/donate-to-defend-potential-craft-axe-throwing/
LOCATION:Craft Axe Throwing\, 226 W Main St Suite D\, Spartanburg\, SC\, 29306
ATTACH;FMTTYPE=image/png:https://spartanburggives.org/wp-content/uploads/2024/09/Craft-Axe-Throwing-8.5-x-11-791x1024-1.png
END:VEVENT
BEGIN:VEVENT
DTSTART;TZID=America/New_York:20241026T090000
DTEND;TZID=America/New_York:20241026T163000
DTSTAMP:20260420T072345
CREATED:20240926T175431Z
LAST-MODIFIED:20240926T175431Z
UID:13880-1729933200-1729960200@spartanburggives.org
SUMMARY:BOO!seum: Trick-or-Treat
DESCRIPTION:Tickets are on sale now for BOO!seum: Trick-or-treat at TCMU! Grab your most fab-BOO-lous costume and head to TCMU-GVL or TCMU-SPG on Saturday\, October 26th for a fun-filled day of candy-collecting as you wind through our eerie-sistible museum! In addition to loads of treats guests will enjoy games\, crafts\, 20% off Halloween items at The TCMU Store and much\, much more! \nThis event is timed-ticketed only. As this is a fundraiser for the museum\, all guests\, including members\, must purchase a ticket to attend.
URL:https://spartanburggives.org/event/booseum-trick-or-treat/
LOCATION:The Children’s Museum of the Upstate- Spartanburg\, 130 Magnolia St\, Spartanbrg\, SC\, 29306\, United States
ATTACH;FMTTYPE=image/png:https://spartanburggives.org/wp-content/uploads/2024/09/Not-your-average-2.png
ORGANIZER;CN="The Children's Museum of the Upstate-Spartanburg":MAILTO:spartanburg@tcmupstate.org
END:VEVENT
END:VCALENDAR