BEGIN:VCALENDAR
VERSION:2.0
PRODID:-//Spartanburg Gives - ECPv6.15.20//NONSGML v1.0//EN
CALSCALE:GREGORIAN
METHOD:PUBLISH
X-ORIGINAL-URL:https://spartanburggives.org
X-WR-CALDESC:Events for Spartanburg Gives
REFRESH-INTERVAL;VALUE=DURATION:PT1H
X-Robots-Tag:noindex
X-PUBLISHED-TTL:PT1H
BEGIN:VTIMEZONE
TZID:America/New_York
BEGIN:DAYLIGHT
TZOFFSETFROM:-0500
TZOFFSETTO:-0400
TZNAME:EDT
DTSTART:20230312T070000
END:DAYLIGHT
BEGIN:STANDARD
TZOFFSETFROM:-0400
TZOFFSETTO:-0500
TZNAME:EST
DTSTART:20231105T060000
END:STANDARD
BEGIN:DAYLIGHT
TZOFFSETFROM:-0500
TZOFFSETTO:-0400
TZNAME:EDT
DTSTART:20240310T070000
END:DAYLIGHT
BEGIN:STANDARD
TZOFFSETFROM:-0400
TZOFFSETTO:-0500
TZNAME:EST
DTSTART:20241103T060000
END:STANDARD
BEGIN:DAYLIGHT
TZOFFSETFROM:-0500
TZOFFSETTO:-0400
TZNAME:EDT
DTSTART:20250309T070000
END:DAYLIGHT
BEGIN:STANDARD
TZOFFSETFROM:-0400
TZOFFSETTO:-0500
TZNAME:EST
DTSTART:20251102T060000
END:STANDARD
END:VTIMEZONE
BEGIN:VEVENT
DTSTART;VALUE=DATE:20240601
DTEND;VALUE=DATE:20240801
DTSTAMP:20260421T084056
CREATED:20240611T055511Z
LAST-MODIFIED:20240611T055511Z
UID:13645-1717200000-1722470399@spartanburggives.org
SUMMARY:Spartanburg County Library Summer Reading Program
DESCRIPTION:Summer Reading at the Spartanburg County Public Libraries starts June 1. Read for prizes and join fun programs this summer! Stop by any library location to get a challenge card\, mix and match any 10 challenges\, then bring it back for a prize. Each completed card doubles as an entry in weekly prize drawings\, so keep reading for more chances to win! Also\, don’t forget to stop by the Headquarters Library and visit the Turtle Travels Exhibit located on the lower level.
URL:https://spartanburggives.org/event/spartanburg-county-library-summer-reading-program/
LOCATION:Spartanburg County Libraries Headquarters\, 151 S Church St\, Spartanburg\, SC\, 29306
ATTACH;FMTTYPE=image/jpeg:https://spartanburggives.org/wp-content/uploads/2024/06/35b87759-aee7-9380-6b84-0dd84d70d00f.jpg
END:VEVENT
BEGIN:VEVENT
DTSTART;VALUE=DATE:20240603
DTEND;VALUE=DATE:20240803
DTSTAMP:20260421T084056
CREATED:20240611T055631Z
LAST-MODIFIED:20240611T055631Z
UID:13649-1717372800-1722643199@spartanburggives.org
SUMMARY:Spartanburg Science Center Summer Camps
DESCRIPTION:Whether it’s dinosaurs\, conservation\, forensics\, marine life\, or help navigating raising a middle schooler\, the science center is sure to have a summer camp for you. \nIf you haven’t yet\, it’s still not too late to register!
URL:https://spartanburggives.org/event/spartanburg-science-center-summer-camps/
LOCATION:Spartanburg Science Center\, 200 E. Saint John St.\, Spartanburg\, SC\, 29306\, United States
ATTACH;FMTTYPE=image/png:https://spartanburggives.org/wp-content/uploads/2024/06/a0fa9f2b-4263-b1e9-2fb9-ca8a037246a7.png
END:VEVENT
BEGIN:VEVENT
DTSTART;VALUE=DATE:20240603
DTEND;VALUE=DATE:20240803
DTSTAMP:20260421T084056
CREATED:20240611T055913Z
LAST-MODIFIED:20240611T055913Z
UID:13652-1717372800-1722643199@spartanburggives.org
SUMMARY:Spartanburg Theatre Camps
DESCRIPTION:Whether you are an aspiring performer or designer or just want to build confidence and make new friends\, the Spartanburg Youth Theatre is the place to be! Classes are filled on a first-come\, first-served basis. Please remember to register early\, as many of their classes (K4 – 12th grade) fill up quickly.
URL:https://spartanburggives.org/event/spartanburg-theatre-camps/
LOCATION:Spartanburg Little Theatre\, 200 E. St. John Street\, Spartanburg\, SC\, 29306
ATTACH;FMTTYPE=image/jpeg:https://spartanburggives.org/wp-content/uploads/2024/06/d0febb9b-614c-5229-9e26-847ecde19b4b.jpg
END:VEVENT
BEGIN:VEVENT
DTSTART;TZID=America/New_York:20240708T080000
DTEND;TZID=America/New_York:20240712T170000
DTSTAMP:20260421T084056
CREATED:20240613T181820Z
LAST-MODIFIED:20240613T181820Z
UID:13699-1720425600-1720803600@spartanburggives.org
SUMMARY:Speaking Down Barriers Summer Camp | Week 1
DESCRIPTION:Speaking Down Barriers is collaborating with Creators Well (formerly Writers Well) and will have arts & crafts\, poetry and writing workshops and MORE! Your registration covers all materials that will be needed for camp\, light refreshments in the morning and lunch and snacks everyday!
URL:https://spartanburggives.org/event/speaking-down-barriers-summer-camp-week-1/
LOCATION:Unitarian Universalist Church of Spartanburg\, 210 Henry Place\, Spartanburg\, SC\, 29306
ATTACH;FMTTYPE=image/jpeg:https://spartanburggives.org/wp-content/uploads/2024/06/447222901_787858610120276_3898371299754648413_n.jpg
ORGANIZER;CN="Speaking Down Barriers":MAILTO:info@speakdownbarriers.org
END:VEVENT
BEGIN:VEVENT
DTSTART;TZID=America/New_York:20240708T180000
DTEND;TZID=America/New_York:20240712T200000
DTSTAMP:20260421T084056
CREATED:20240613T181646Z
LAST-MODIFIED:20240613T181646Z
UID:13696-1720461600-1720814400@spartanburggives.org
SUMMARY:BRUH Mentor’s Speed\, Agility\, and Power Camp
DESCRIPTION:BRUH Mentor is hosting various summer camps available for free. This camp is enrolling boys and girls ages 13-19 to learn speed mechanics and more. For registration info\, contact Victor Durrah at bruhmentor@gmail.com OR 864-279-4965.
URL:https://spartanburggives.org/event/bruh-mentors-speed-agility-and-power-camp-2/
LOCATION:Chapman High School\, 1420 Compton Bridge Road\, Inman\, SC\, 29349
ATTACH;FMTTYPE=image/jpeg:https://spartanburggives.org/wp-content/uploads/2024/06/442438930_8215101381851254_1224424917046581651_n.jpg
END:VEVENT
BEGIN:VEVENT
DTSTART;TZID=America/New_York:20240711T120000
DTEND;TZID=America/New_York:20240711T140000
DTSTAMP:20260421T084056
CREATED:20240613T175532Z
LAST-MODIFIED:20240613T175532Z
UID:13681-1720699200-1720706400@spartanburggives.org
SUMMARY:Luncheon with Kristy Woodson Harvey
DESCRIPTION:Southern charm is coming to Spartanburg this summer! Author Kristy Woodson Harvey is stopping by the Chesnee Library for a luncheon to talk about her new book\, “A Happier Life\,” a twisting tale of family and secrets stretched across time. Registration is required for this event and free copies of the book will be given to the first 40 participants.
URL:https://spartanburggives.org/event/luncheon-with-kristy-woodson-harvey/
LOCATION:Chesnee Library\, 100 State Rd S-42-1337\, Chesnee\, SC\, 29323
ATTACH;FMTTYPE=image/png:https://spartanburggives.org/wp-content/uploads/2024/06/5033729b-6a12-f057-b78d-0c728bb4eab7.png
END:VEVENT
BEGIN:VEVENT
DTSTART;TZID=America/New_York:20240711T180000
DTEND;TZID=America/New_York:20240711T193000
DTSTAMP:20260421T084056
CREATED:20240613T175754Z
LAST-MODIFIED:20240613T175754Z
UID:13685-1720720800-1720726200@spartanburggives.org
SUMMARY:An Evening with Beatriz Williams
DESCRIPTION:The Landrum Library and Hub City Bookstore are proud to bring award-winning and New York Times bestselling author Beatriz Williams to Landrum for a conversation with Williams and book signing. The first 75 patrons to arrive at the event area when it opens at 5:30 p.m. will receive a free copy of “Husbands and Lovers\,” and Hub City will have copies of Williams’ novels on hand to sell.
URL:https://spartanburggives.org/event/an-evening-with-beatriz-williams/
LOCATION:Landrum Library\, 111 Asbury Dr #1402\, Landrum\, SC\, 29356
ATTACH;FMTTYPE=image/png:https://spartanburggives.org/wp-content/uploads/2024/06/aab7bbce-2968-8483-c86c-671585985339.png
END:VEVENT
END:VCALENDAR